BEGIN:VCALENDAR
VERSION:2.0
PRODID:-//Universidade Federal do Cariri - ECPv4.9.5//NONSGML v1.0//EN
CALSCALE:GREGORIAN
METHOD:PUBLISH
X-WR-CALNAME:Universidade Federal do Cariri
X-ORIGINAL-URL:https://www.ufca.edu.br
X-WR-CALDESC:Eventos para Universidade Federal do Cariri
BEGIN:VTIMEZONE
TZID:"America/Fortaleza"
BEGIN:STANDARD
TZOFFSETFROM:-0300
TZOFFSETTO:-0300
TZNAME:-03
DTSTART:20230101T000000
END:STANDARD
END:VTIMEZONE
BEGIN:VEVENT
DTSTART;TZID="America/Fortaleza":20230522T080000
DTEND;TZID="America/Fortaleza":20230526T200000
DTSTAMP:20260425T020709
CREATED:20230502T173718Z
LAST-MODIFIED:20230502T173956Z
UID:41559-1684742400-1685131200@www.ufca.edu.br
SUMMARY:13ª Semana de Filosofia e seu Ensino - UFCA
DESCRIPTION:Os cursos de Filosofia da Universidade Federal do Cariri (bacharelado e licenciatura) promovem\, de 22 a 26 de maio de 2023\, a 13ª Semana de Filosofia e seu Ensino – UFCA. O tema da semana deste ano é Filosofia Brasileira: Decolonialidade e Interculturalidade. A programação ocorre no campus Juazeiro do Norte da UFCA: parte no Auditório Bárbara de Alencar (bloco E)\, parte no Auditório Beata Maria de Araújo (bloco H). \nAs inscrições seguem disponíveis até o dia 22 de maio de 2023\, por meio de formulário eletrônico. \nPROGRAMAÇÃO \n22 de maio de 2023\nLocal: Auditório Bárbara de Alencar \n14h – Credenciamento \n18h – Mesa de Abertura: Filosofia Brasileira: Decolonialidade e Interculturalidade.\nPalestrante: Prof. Dr. Lucas Machado (UFRJ e Presidente da Associação Latino-Americana de Filosofia Intercultural – Alafi) \n23 de maio de 2023\nLocal: Auditório Bárbara de Alencar  \n9h – Simpósio Temático Kant e o Neokantismo\n14h – Minicursos\n18h – Mesa: Pensamento Africano\nPalestrantes: Profa. Dra. Aldibênia Machado (UFRRJ) e Prof. Me. Givaldo Pereira (Seduce) \n24 DE MAIO DE 2023\nLocal: Auditório Beata Maria de Araújo \n9h – Simpósio Temático Filosofia Brasileira\n14h – Minicursos\n18h – Mesa: Pensamento Indígena \nPalestrantes: Prof. Dr. Mateus Uchôa (UVA) e Profa. Me. Tereza Raquel Arraes Alves (Doutoranda em Comunicação – UFC). \n25 DE MAIO DE 2023\nLocal: Auditório Beata Maria de Araújo \n9h – Simpósio Temático Éticas da Sexualidade\n14h – Semeação\n16h – Apresentação dos Relatos de Experiência dos Programas Pibid e Residência Pedagógica\n18h – Mesa: Ensino de Filosofia \n26 DE MAIO DE 2023\nLocal: Auditório Bárbara de Alencar  \n14h – Semeação\n18h – Mesa: Mulheres na Filosofia \n  \nAcesse o site da 13ª Semana de Filosofia e seu Ensino UFCA.\nAcesse o Instagram dos cursos de Filosofia da UFCA. \n
URL:https://www.ufca.edu.br/evento/13a-semana-de-filosofia-e-seu-ensino-ufca-filosofia-brasileira-decolonialidade-e-interculturalidade/
LOCATION:Campus Juazeiro do Norte
CATEGORIES:Eventos
ATTACH;FMTTYPE=image/png:https://www.ufca.edu.br/portal/wp-content/uploads/2023/05/Semana-de-Filosofia-1.png
END:VEVENT
BEGIN:VEVENT
DTSTART;TZID="America/Fortaleza":20230526T190000
DTEND;TZID="America/Fortaleza":20230526T190000
DTSTAMP:20260425T020709
CREATED:20230329T123132Z
LAST-MODIFIED:20230721T174940Z
UID:40970-1685127600-1685127600@www.ufca.edu.br
SUMMARY:Clima Jazz
DESCRIPTION:O Clima Jazz é uma realização da UFCA em parceria com Centro Cultural Banco do Nordeste (CCBNB) e com o Refúgio Café (R. Conceição\, 759 – Centro\, Juazeiro do Norte). Pelo projeto\, são promovidas apresentações\, explorando o gênero musical Jazz\, no Refúgio Café\, sempre às 19h\, em dias programados. Nas edições 2023 do projeto\, os dias são: 26 de maio\, 28 de julho\, 29 de setembro e 24 de novembro. Este ano\, todos esses dias caem em sextas-feiras. \nNo próximo dia 26 de maio\, pelo Clima Jazz\, o Refúgio Café recebe quatro músicos residentes na região do Cariri\, para um show instrumental: Welton Santos (Sax)\, Diego Souza (Teclado)\, Remy Oliveira (bateria)\, além do professor do curso de Música da UFCA\, Cláudio Mappa (baixo acústico). O repertório inclui standards de jazz da música brasileira\, como Stella by Starlight\, The Thrill is Gone\, O Barquinho e Corcovado. \nClima Jazz é uma ação da Coordenadoria de Artes da Pró-Reitoria de Cultura (Cartes-Procult/UFCA) e do projeto de Cultura da UFCA “Núcleo de Artes” (Nave)\, que busca incentivar a vivência criativa da música. Pretende ser mais um ponto de conexão a se inserir na corrente de evolução constante que define a trajetória desse grande (meta) gênero musical. Além de promover o encontro entre a cultura do café e do jazz na região. \nObjetivos \nEntre os objetivos estão estabelecer parceria criativa em ações de sensibilização para promover a cultura do Jazz\, promover a cultura do jazz no Cariri Cearense\, contribuir para a formação de público/plateia\, somar e dialogar com os ritmos da região e promover o encontro entre a cultura do café e do jazz na região.\n\nServiço \nConcepção / Coordenação / Direção Criativa / Produção: Cláudio Mappa (Gerência Articulação artística) e Aglaíze Damasceno (Coordenadora de Artes)\nParceria: Procult/UFCA e Refúgio Café \nColaboradores NAVE/CICLOS: Alan Araújo / Rose Severo / John Balbino / Cecília Sobreira \n
URL:https://www.ufca.edu.br/evento/clima-jazz/
LOCATION:Refúgio Café\, Rua Conceição\, 759\, Juazeiro do Norte\, Ceará\, Brasil
CATEGORIES:Eventos
ATTACH;FMTTYPE=image/png:https://www.ufca.edu.br/portal/wp-content/uploads/2023/05/Clima-Jazz.png
ORGANIZER;CN="Pr%C3%B3-Reitoria%20de%20Cultura":MAILTO:procult@ufca.edu.br
END:VEVENT
BEGIN:VEVENT
DTSTART;TZID="America/Fortaleza":20230526T193000
DTEND;TZID="America/Fortaleza":20230526T203000
DTSTAMP:20260425T020709
CREATED:20230526T111448Z
LAST-MODIFIED:20230526T111449Z
UID:42026-1685129400-1685133000@www.ufca.edu.br
SUMMARY:Banda Glory Fate no encerramento da XIII Semana de Filosofia e seu ensino
DESCRIPTION:A banda caririense Glory Fate se apresentará nesta sexta-feira\, dia 26 de maio de 2023\, às 19h30\, no Mirante da UFCA\, no campus Juazeiro do Norte. Com apoio da Pró-Reitoria de Cultura (Procult) e do Instituto Interdisciplinar de Sociedade\, Cultura e Artes (IIsca)\, A apresentação faz parte da programação de encerramento da XIII Semana de Filosofia e seu ensino. \nFormada em 1992 com o nome de StormBringer\, Glory Fate foi a primeira banda de heavy metal do interior do Ceará. A banda mudou de nome em 1998\, por conta da existência de duas bandas homônimas. O grupo tem como influência do heavy metal tradicional oitentista e bandas como Running Wild\, Iron Maiden\, Deep Purple\, Rainbow\, Judas Priest\, Helloween\, UFO\, Saxon\, etc. As letras são em inglês e falam de mitologia\, crítica social e literatura. \nEm 2001 a Glory Fate gravou seu primeiro álbum\, intitulado Tears of Freedom\, disco que teve boa repercussão a nível nacional e até internacional. No final de 2006\, a banda lançou mais um álbum: Bad Moon Rising\, que recebeu uma ótima aceitação por parte da mídia especializada e rendeu vários shows pelo Brasil. \nEm 2012 foi lançado o terceiro álbum: Ride on the Roller Coaster\, consolidando o som da banda para um heavy metal oitentista\, mais direto e\, agora\, sem teclados. Esse álbum foi lançado pelo selo europeu NonNobis Records. \nEm 2019\, a banda terminou as gravações do mais novo álbum\, só lançado agora em 2022\, por conta da pandemia de covid-19. Intitulado Vol. IV\, é um disco temático\, com letras influenciadas por grandes clássicos da literatura (Anthony Burgess\, Thomas More\, Alan Poe\, George Orwell\, Douglas Adams). \nEm sua trajetória\, a banda já tocou em muitas cidades e capitais da região Nordeste\, dividindo o palco com grandes nomes\, como: André Matos\, Krisiun\, Nervochaos\, Zak Stevens\, Beowulf\, Darkside\, Insanity\, Deadly Fate\, Titãs\, entre outros. \nAtualmente\, a banda prepara-se para shows em comemoração aos seus 30 anos de carreira. \n(Com informações da banda Glory Fate) \n
URL:https://www.ufca.edu.br/evento/banda-glory-fate-no-encerramento-da-xiii-semana-de-filosofia-e-seu-ensino/
LOCATION:Mirante UFCA
CATEGORIES:Eventos
ATTACH;FMTTYPE=image/jpeg:https://www.ufca.edu.br/portal/wp-content/uploads/2023/05/Glory-Fate.jpg
END:VEVENT
END:VCALENDAR