BEGIN:VCALENDAR
VERSION:2.0
PRODID:-//Universidade Federal do Cariri - ECPv4.9.5//NONSGML v1.0//EN
CALSCALE:GREGORIAN
METHOD:PUBLISH
X-WR-CALNAME:Universidade Federal do Cariri
X-ORIGINAL-URL:https://www.ufca.edu.br
X-WR-CALDESC:Eventos para Universidade Federal do Cariri
BEGIN:VTIMEZONE
TZID:"America/Fortaleza"
BEGIN:STANDARD
TZOFFSETFROM:-0300
TZOFFSETTO:-0300
TZNAME:-03
DTSTART:20230101T000000
END:STANDARD
END:VTIMEZONE
BEGIN:VEVENT
DTSTART;TZID="America/Fortaleza":20230417T080000
DTEND;TZID="America/Fortaleza":20230425T170000
DTSTAMP:20260425T032217
CREATED:20230404T163429Z
LAST-MODIFIED:20230417T122552Z
UID:41101-1681718400-1682442000@www.ufca.edu.br
SUMMARY:II Festival Musicariri
DESCRIPTION:A Universidade Federal do Cariri (UFCA)\, por meio do Programa de Educação Tutorial do curso de Música (PET-Música)\, realiza o II Festival Musicariri\, cujas etapas ocorrerão nos dias 14 a 18 de abril\, de forma on-line\, via YouTube\, e dia 22 de abril\, no formato presencial\, na Alameda Juazeiro do Norte. \nAs inscrições para participação de artistas estão disponíveis entre os dias 3 e 7 de abril de 2023. O festival tem como principal objetivo viabilizar um espaço para prática\, produção e divulgação de música autoral\, privilegiando grupos instrumentais\, compositores e intérpretes vocais da região do Cariri cearense. \nPara mais informações acesse o edital do evento. \n
URL:https://www.ufca.edu.br/evento/ii-festival-musicariri/
LOCATION:Youtube e Alameda Juazeiro do Norte
CATEGORIES:Eventos
ATTACH;FMTTYPE=image/png:https://www.ufca.edu.br/portal/wp-content/uploads/2023/03/Festival-de-Música.png
END:VEVENT
BEGIN:VEVENT
DTSTART;TZID="America/Fortaleza":20230424T183000
DTEND;TZID="America/Fortaleza":20230426T183000
DTSTAMP:20260425T032217
CREATED:20230411T140259Z
LAST-MODIFIED:20230411T141318Z
UID:41149-1682361000-1682533800@www.ufca.edu.br
SUMMARY:II Semana de Letras-Libras da UFCA
DESCRIPTION:O curso de Letras-Libras\, da Universidade Federal do Cariri (UFCA)\, convida a comunidade acadêmica para a II Semana de Letras-Libras da UFCA\, em que será comemorado o Dia Nacional da Libras e a nota máxima do curso na avaliação do Ministério da Educação (MEC). \nO evento será realizado entre os dias 24 e 26 de abril de 2023\, no campus Juazeiro do Norte\, e contará com palestras\, minicursos e exposições. Para se inscrever\, é necessário preencher formulário disponível no Google Forms. \nConfira o convite feito em Libras por uma estudante do curso: \n \n  \nConfira abaixo a programação completa: \nSegunda-feira (24/04/2023) \n18h30 – Conferência de Abertura: “Literatura em Libras: valoriza a vida surda!” – Profa. Dra. Rachel Louise Sutton Spence (UFSC) \nMediador: José George Macêdo Cruz \n(Auditório Beata Maria de Araújo) \nTerça-feira (25/04/2023) \n14h – Minicurso 1: “Literatura em Libras: abordagem didática e educacional” – Prof.ª Dr.ª Rachel Louise Sutton Spence (UFSC) – 40 vagas   (Sala M101) \n14h – Minicurso 2: A língua de sinais como suporte da memória coletiva da comunidade surda – Igor Aquino (UFCA) e Iris Raiane (UFCA) – 40 vagas  (Sala M102) \n17h – Exposição de Ensino de Libras: Programa Institucional de Bolsas de Iniciação à Docência (Pibid)\, Programa de Residência Pedagógica (RP) do Curso de Letras-Libras da UFCA e Instituto Transformar (Intra)   ( Pátio) \n18h30 – Palestras: \n“A história da Libras: um estudo descritivo das mudanças fonológicas e lexicais” – Profa. Me. Heloise Gripp (UFRJ) \n“Aceitação dos sinais na Língua de Sinais: uma perspectiva linguística sobre atitudes” – Prof. Dr. Thiago Ramos de Albuquerque (UFPE) \nMediador: Lincoln Damacena Oliveira \n(Auditório Beata Maria de Araújo) \nQuarta-feira (26/04/2023) \n14h – Minicurso 3: “A formação dos sinais com base nas tendências das mudanças linguísticas” – Profa. Me. Heloise Gripp (UFRJ) – 40 vagas    (Sala M101) \n14h – Minicurso 4: “O contexto tecnológico dos recursos de comunicação utilizados por sinalizantes na atualidade” – Prof. Dr. Thiago Ramos de Albuquerque (UFPE) – 40 vagas    (Sala M102) \n18h30 – Minicurso 5: “Estratégias de ensino e de aprendizagem da Libras através de dinâmicas e materiais não convencionais” – Prof.ª Esp. Maria Rerbelânia de Souza Pereira (UFCA) e Prof. Lirieudo Ferreira dos Santos – 30 vagas  (Sala I101) \n18h30 – Minicurso 6: Surdocegueira: relatos de experiência como guia-intérprete – Prof.ª Shimbherly de Mori Crepaldi dos Santos (IFCE/URCA) – 30 vagas ( Sala I102) \n18h30 – Minicurso 7: Noções Básicas de SignWriting – Adália Samara Alencar (UFCA) – 30 vagas  (Sala I103) \n18h30 – Oficina: “As metáforas da Libras” – Prof. Me. Adriano Rodrigues dos Santos (IFCE) – 25 vagas (Sala I104) \n  \n
URL:https://www.ufca.edu.br/evento/ii-semana-de-letras-libras-da-ufca/
CATEGORIES:Eventos
ATTACH;FMTTYPE=image/png:https://www.ufca.edu.br/portal/wp-content/uploads/2023/04/proposta-chamada-1.png
END:VEVENT
BEGIN:VEVENT
DTSTART;TZID="America/Fortaleza":20230424T183000
DTEND;TZID="America/Fortaleza":20230425T183000
DTSTAMP:20260425T032217
CREATED:20230418T143715Z
LAST-MODIFIED:20230418T144023Z
UID:41275-1682361000-1682447400@www.ufca.edu.br
SUMMARY:Seminários de Gestão Social 2023
DESCRIPTION:Nos dias 24 e 25 de abril de 2023\, o Laboratório Interdisciplinar de Estudos em Gestão Social (Liegs/UFCA) em parceria com o curso de Administração Pública e Gestão Social\, promovem mais duas edições dos Seminários de Gestão Social. Esses eventos são promovidos anualmente\, desde 2007\, com o propósito de abordar e debater temáticas marcantes no âmbito da Gestão Social. \nNo dia 24 de abril\, a trigésima quarta dos Seminários de Gestão Social vai debater os resultados da pesquisa “Flexibilidade nas Relações de Trabalho na Economia do Compartilhamento: Um Estudo no Nordeste Brasileiro”\, realizada\, junto a motoristas por aplicativos\, em sete cidades do Nordeste Brasileiro (Fortaleza\, Juazeiro do Norte\, Mossoró\, Natal\, João Pessoa\, Recife e Salvador). \nO estudo – coordenado pelo professor e pesquisador Jeová Torres\, do Centro de Ciências Sociais Aplicadas (CCSA/UFCA) – foi financiado pelo Conselho Nacional de Desenvolvimento Científico e Tecnológico (CNPq). Para participar não é necessário fazer inscrição prévia. \nJá a edição do dia 25 de abril\, a trigésima quinta dos Seminários\, envolverá\, além palestra de Jean-Louis Laville\, a assinatura de um acordo de cooperação internacional entre o Le Cnam e a UFCA\, com a presença do reitor da UFCA\, professor Ricardo Ness. Também está programado o lançamento de dois livros do professor francês – ambos publicados pela Ateliê de Humanidades Editorial. \nPara esse momento do dia 25\, as inscrições já estão abertas no formulário on-line. \nOs eventos acontecem no Auditório Bárbara de Alencar do campus Juazeiro do Norte (Bloco E\, piso inferior)\, a partir das 18h30. \nPara mais informações\, acesse a notícia no Portal da UFCA. \n
URL:https://www.ufca.edu.br/evento/seminarios-de-gestao-social-2023/
LOCATION:Miniauditório Bárbara de Alencar – Campus Juazeiro do Norte
CATEGORIES:Eventos
ATTACH;FMTTYPE=image/png:https://www.ufca.edu.br/portal/wp-content/uploads/2023/04/Jean-Louis-2.png
END:VEVENT
END:VCALENDAR