BEGIN:VCALENDAR
VERSION:2.0
PRODID:-//Universidade Federal do Cariri - ECPv4.9.5//NONSGML v1.0//EN
CALSCALE:GREGORIAN
METHOD:PUBLISH
X-WR-CALNAME:Universidade Federal do Cariri
X-ORIGINAL-URL:https://www.ufca.edu.br
X-WR-CALDESC:Eventos para Universidade Federal do Cariri
BEGIN:VTIMEZONE
TZID:"America/Fortaleza"
BEGIN:STANDARD
TZOFFSETFROM:-0300
TZOFFSETTO:-0300
TZNAME:-03
DTSTART:20230101T000000
END:STANDARD
END:VTIMEZONE
BEGIN:VEVENT
DTSTART;TZID="America/Fortaleza":20230323T190000
DTEND;TZID="America/Fortaleza":20230330T170000
DTSTAMP:20260425T032331
CREATED:20230208T203713Z
LAST-MODIFIED:20230323T115849Z
UID:40497-1679598000-1680195600@www.ufca.edu.br
SUMMARY:Sexto Simpósio Internacional Padre Cícero – Primeiro Simpósio Internacional de Religiões e Espiritualidades
DESCRIPTION:Será realizado\, entre os dias 17 e 24 de março de 2023\, o Sexto Simpósio Internacional Padre Cícero – Primeiro Simpósio Internacional de Religiões e Espiritualidades. O evento ocorrerá em formato híbrido\, com programação presencial (no campus Juazeiro do Norte da UFCA) e também programação on-line. A Universidade Federal do Cariri é uma das parceiras do evento\, realizado pela Universidade Regional do Cariri (Urca)\, em parceria com o GeoPark Araripe\, com o Governo do Ceará e com o Instituto José Marrocos de Estudos e Pesquisas Sócio-Culturais (Ipesc). \nAs inscrições devem feitas pelo Siseventos\, da Urca. Acesse também o site do evento\, no qual está disponível a programação completa. \nCalendário: \n\nInscrições para Monitoria voluntária: até 7 de Fevereiro de 2023\nInscrição COM submissão de Comunicação Oral nos Seminários Temáticos por meio do SISEVENTOS: 20 de janeiro de 2023 a 17 de fevereiro de 2023\nInscrição no Evento SEM Submissão de Comunicação Oral\, através do Siseventos: 08 de janeiro de 2023 a 19 de março de 2023\nDivulgação das Comunicações Orais aprovadas: 28 de fevereiro de 2023\nData limite para envio de trabalhos completos: 16 de março de 2023\n\nMais informações no Portal da Urca. \n
URL:https://www.ufca.edu.br/evento/sexto-simposio-internacional-padre-cicero-primeiro-simposio-internacional-de-religioes-e-espiritualidades/
LOCATION:Campus Juazeiro do Norte
CATEGORIES:Eventos
ATTACH;FMTTYPE=image/png:https://www.ufca.edu.br/portal/wp-content/uploads/2023/02/Espiritualidade-1.png
END:VEVENT
BEGIN:VEVENT
DTSTART;TZID="America/Fortaleza":20230329T080000
DTEND;TZID="America/Fortaleza":20230331T170000
DTSTAMP:20260425T032331
CREATED:20230328T164442Z
LAST-MODIFIED:20230328T164541Z
UID:40950-1680076800-1680282000@www.ufca.edu.br
SUMMARY:Encontro Internacional de Arte Sonora do Cariri
DESCRIPTION:O Primeiro Encontro Internacional de Arte Sonora do Cariri Cearense é um evento gratuito que acontecerá nos dias 29\, 30 e 31 de março de 2023\, realizado pela Pró-Reitoria de Cultura\, da Universidade Federal do Cariri (UFCA)\, e pelo Centro de Artes\, da Universidade Regional do Cariri (Urca). \nO encontro contará com a participação do compositor e designer sonoro português Carlos Alberto Augusto (Portugal)\, da professora Janete El Haouli (Brasil-UEL) e da artista Ro Barragan (Argentina) que palestrarão sobre suas pesquisas e obras artísticas. O evento também terá três oficinas que objetivam fomentar e fortalecer a Arte Sonora na região. \nO Primeiro Encontro Internacional de Arte Sonora do Cariri Cearense é uma ação do SISONS\, coletivo que reúne pesquisadores e pesquisadoras na Arte Sonora\, com o intuito de divulgá-la\, reunindo artistas interessados/as na linguagem\, promovendo eventos\, discussões\, problematizações e materiais artísticos que exploram sonoridades\, na região do Cariri cearense. É formado pelas professoras Aglaíze Damasceno (Design/ UFCA)\, Andreia Paris (Teatro/URCA) e pelo professor Antonio Chagas Neto (Música/UFCA)\, artistas-professores/as-pesquisadoras da área\, que se unem para pensar ações sobre a temática. \nPara mais informações acesse o site ou o Instagram (@sisons.artesonora). \nConfira abaixo a programação: \n \n
URL:https://www.ufca.edu.br/evento/encontro-internacional-de-arte-sonora-do-cariri/
LOCATION:Urca e UFCA
CATEGORIES:Eventos
ATTACH;FMTTYPE=image/jpeg:https://www.ufca.edu.br/portal/wp-content/uploads/2023/03/4-sisons.jpg
END:VEVENT
BEGIN:VEVENT
DTSTART;TZID="America/Fortaleza":20230330T080000
DTEND;TZID="America/Fortaleza":20230330T160000
DTSTAMP:20260425T032331
CREATED:20230315T134525Z
LAST-MODIFIED:20230315T134632Z
UID:40829-1680163200-1680192000@www.ufca.edu.br
SUMMARY:Doação de sangue
DESCRIPTION:A Universidade Federal do Cariri (UFCA)\, por meio da Pró-Reitoria de Assuntos Estudantis (Prae/UFCA)\, promove campanha de doação de sangue\, no dia 30 de março de 2023. \nA equipe do Hemoce estará no auditório Beata Maria de Araújo\, no campus Juazeiro do Norte\, das 8h às 16h. O agendamento prévio não é obrigatório. \nToda a comunidade acadêmica está convidada. \n
URL:https://www.ufca.edu.br/evento/doacao-de-sangue/
LOCATION:Auditório Beata Maria de Araújo – Campus Juazeiro do Norte da UFCA\, Av. Tenente Raimundo Rocha\, 1639\, Juazeiro do Norte\, Ceará\, 63048080\, Brasil
CATEGORIES:Eventos
ATTACH;FMTTYPE=image/png:https://www.ufca.edu.br/portal/wp-content/uploads/2023/03/doação-de-sangue-destaque-e1678887984277.png
ORGANIZER;CN="Pr%C3%B3-Reitoria%20de%20Assuntos%20Estudantis":MAILTO:prae@ufca.edu.br
END:VEVENT
END:VCALENDAR