BEGIN:VCALENDAR
VERSION:2.0
PRODID:-//Universidade Federal do Cariri - ECPv4.9.5//NONSGML v1.0//EN
CALSCALE:GREGORIAN
METHOD:PUBLISH
X-WR-CALNAME:Universidade Federal do Cariri
X-ORIGINAL-URL:https://www.ufca.edu.br
X-WR-CALDESC:Eventos para Universidade Federal do Cariri
BEGIN:VTIMEZONE
TZID:"America/Fortaleza"
BEGIN:STANDARD
TZOFFSETFROM:-0300
TZOFFSETTO:-0300
TZNAME:-03
DTSTART:20220101T000000
END:STANDARD
END:VTIMEZONE
BEGIN:VEVENT
DTSTART;TZID="America/Fortaleza":20221121T180000
DTEND;TZID="America/Fortaleza":20221123T220000
DTSTAMP:20260425T114306
CREATED:20221110T142209Z
LAST-MODIFIED:20221110T142210Z
UID:39682-1669053600-1669240800@www.ufca.edu.br
SUMMARY:Segundo Simpósio de Políticas Urbanas\, Sociais e Ambientais do Cariri (Simurbs)
DESCRIPTION:O Laboratório de Estudos Urbanos\, Políticas Públicas e Sustentabilidade (Laurbs)\, da Universidade Federal do Cariri (UFCA)\, realizará o segundo Simpósio de Políticas Urbanas\, Sociais e Ambientais do Cariri (Simurbs)\, cujo tema será: Democracia\, Participação e Planejamento Territorial no Crajubar. \nO segundo Simurbs ocorrerá nos dias 21\, 22 e 23 de novembro de 2022\, de forma presencial\, no auditório Beata Maria de Araújo-UFCA (dias 21 e 22) e no auditório do NPJ do Centro Universitário Leão Sampaio (Unileão) (dia 23)\, das 19h às 22h. \nO evento é uma proposição coletiva que objetiva discutir as políticas urbanas\, sociais e ambientais no Cariri cearense. Nesta edição\, o diálogo será especificamente sobre os municípios de Crato\, Juazeiro do Norte e Barbalha\, interligadas a participação dos agentes sociais de forma democrática\, visando contribuir para o desenvolvimento regional sustentável. \nA programação será composta por três momentos distintos\, cujas temáticas debatidas serão respectivamente “Democracia\, Participação e Planejamento Territorial”; “A questão ambiental no Crajubar”; e “A questão urbana e territorial no Crajubar”. \nO evento está programado para receber um público diverso\, trabalhando os assuntos de forma interdisciplinar. Contará com a presença de gestores públicos e sociais\, pesquisadores\, graduandos e pós-graduandos\, professores e estudantes da Educação Básica assim como profissionais das áreas convergentes às Ciências Sociais Aplicadas. \nO acesso à programação será gratuito. As inscrições poderão ser realizadas até o último dia de evento\, por meio do site. \nConfira a programação completa: \n21 de Novembro de 2022 – Auditório Beata Maria de Araújo (UFCA)\n18h | Credenciamento\n18h30min | Mesa de Abertura\n19h | Painel de Abertura: Democracia\, Participação e Planejamento Territorial\nPainelistas: Prof. Dr. Wendell de Freitas Barbosa (UFCA)\nProf. Dr. Francisco Raniere Moreira da Silva (UFCA)\nProfa. Dra. Kátia Regina Rodrigues Lima (URCA)\nModerador: Prof. Dr. Diego Coelho do Nascimento (UFCA) \n22 de novembro de 2022 – Auditório Beata Maria de Araújo (UFCA)\n19h | Painel: A questão ambiental no CRAJUBAR\nPainelistas: Profa. Dra. Maria Gorethe de Sousa Lima (UFCA)\nProf. Dr. Geislam Gomes de Lima (URCA)\nTeresa Raquel Carneiro Soares (ONG Biodiverse)\nModeradora: Me. Romênia Oliveira de Souza (LAURBS) \n23 de novembro de 2022 – Auditório do Núcleo de Práticas Jurídicas (UNILEÃO)\n19h | Painel de Encerramento: A questão urbana e territorial no CRAJUBAR\nPainelista: Profa. Dra. Deborah Macedo dos Santos (UFCA)\nProf. Dr. Josier Ferreira da Silva (URCA)\nEsp. Adriana Silva Reis Quedas (PLANO DIRETOR CRATO)\nModeradora: Profa. Dra. Francilda Alcantara Mendes (UFCA/ UNILEÃO) \n
URL:https://www.ufca.edu.br/evento/segundo-simposio-de-politicas-urbanas-sociais-e-ambientais-do-cariri-simurbs/
LOCATION:Auditório Beata Maria de Araújo\, Av. Tenente Raimundo Rocha\, 1639\, Juazeiro do Norte\, Ceará\, 63048-080\, Brasil
CATEGORIES:Eventos
END:VEVENT
END:VCALENDAR