BEGIN:VCALENDAR
VERSION:2.0
PRODID:-//Universidade Federal do Cariri - ECPv4.9.5//NONSGML v1.0//EN
CALSCALE:GREGORIAN
METHOD:PUBLISH
X-WR-CALNAME:Universidade Federal do Cariri
X-ORIGINAL-URL:https://www.ufca.edu.br
X-WR-CALDESC:Eventos para Universidade Federal do Cariri
BEGIN:VTIMEZONE
TZID:"America/Fortaleza"
BEGIN:STANDARD
TZOFFSETFROM:-0300
TZOFFSETTO:-0300
TZNAME:-03
DTSTART:20220101T000000
END:STANDARD
END:VTIMEZONE
BEGIN:VEVENT
DTSTART;TZID="America/Fortaleza":20221019T080000
DTEND;TZID="America/Fortaleza":20221019T170000
DTSTAMP:20260425T133045
CREATED:20221019T172910Z
LAST-MODIFIED:20221019T173039Z
UID:39421-1666166400-1666198800@www.ufca.edu.br
SUMMARY:Semana dos Servidores Públicos
DESCRIPTION:PROGRAMAÇÃO DO DIA DO SERVIDOR – UFCA 2022 \n20/10/22 (quinta-feira) \n8h – Abertura Oficial | Centro Multiuso \n\nPalavra do Reitor;\nPalavra do Pró-Reitor de Gestão de Pessoas;\nPalavra da Coordenadora de Qualidade de Vida no Trabalho;\nMinicurso “Gerenciamento do Estresse”* com Yane Machado\, Psicóloga da Prae/UFCA\n\n21/10/22 (sexta-feira)  \n8h – Campus Juazeiro do Norte\nMinicurso Gerenciamento do Estresse* \n24/10/2022 (segunda-feira) \n8h – Campus Crato\nMinicurso Gerenciamento do Estresse* \n25/10/22 (terça-feira) \n8h – Campus Barbalha\nMinicurso Gerenciamento do Estresse*; \n8h – Campus Juazeiro do Norte (Sala K-04)\nPalestra sobre previdência e aposentadoria do servidor\,\nPalestrante: Dr. Luiz Cláudio Silva Santos – assessoria jurídica do Sintufce; \n19h (Remoto)\nBate-papo em saúde sobre a importância da prevenção do Câncer de Mama\nFacilitadora: Dra. Sheila Ulisses Paiva (meet.google.com/jmx-psisbec). \n26/10/22 (quarta-feira)\n\n8h – Campus Brejo Santo\nCapacitação Gerenciamento do Estresse*\nEntrega dos crachás dos servidores do IFE \n13 (Remoto)\nPalestra: Aposentadoria do servidor público federal: o que muda com a Emenda 103/2019?\nPalestrante: Stênio Leão Guimarães (meet.google.com/ypn-putx-uxp). \n27/10/22 (quinta-feira) \nEncerramento \nCampus Juazeiro do Norte – Pátio\n•8 h às 12 h – Atividades de massagens e relaxamento\, realizadas por estudantes de Fisioterapia\, em parceria com a Unileão (no pátio). \nCampus Juazeiro do Norte – Auditório Beata Maria de Araújo\n8 h – Recepção dos Servidores e Música ao vivo;\n9 h – Palestra: Caminhos para uma longevidade saudável (Dra. Isabelle Mendes);\n10 h – Coffe Break;\n10h30 – Palestra: Como ter mais saúde e disposição através da qualidade do sono (Dra. Cristiane Alexandre);\n11h30 h – Encerramento. \n* Para participação na capacitação “Gerenciamento do Estresse”\, os servidores devem realizar a sua inscrição no SIGRH \n
URL:https://www.ufca.edu.br/evento/semana-dos-servidores-publicos/
CATEGORIES:Eventos
ATTACH;FMTTYPE=image/jpeg:https://www.ufca.edu.br/portal/wp-content/uploads/2022/10/WhatsApp-Image-2022-10-19-at-12.41.53.jpeg
END:VEVENT
END:VCALENDAR