BEGIN:VCALENDAR
VERSION:2.0
PRODID:-//Universidade Federal do Cariri - ECPv4.9.5//NONSGML v1.0//EN
CALSCALE:GREGORIAN
METHOD:PUBLISH
X-WR-CALNAME:Universidade Federal do Cariri
X-ORIGINAL-URL:https://www.ufca.edu.br
X-WR-CALDESC:Eventos para Universidade Federal do Cariri
BEGIN:VTIMEZONE
TZID:"America/Fortaleza"
BEGIN:STANDARD
TZOFFSETFROM:-0300
TZOFFSETTO:-0300
TZNAME:-03
DTSTART:20220101T000000
END:STANDARD
END:VTIMEZONE
BEGIN:VEVENT
DTSTART;TZID="America/Fortaleza":20220921T140000
DTEND;TZID="America/Fortaleza":20221015T163000
DTSTAMP:20260425T150244
CREATED:20220901T144851Z
LAST-MODIFIED:20220916T173853Z
UID:38685-1663768800-1665851400@www.ufca.edu.br
SUMMARY:Sexto Fórum Itinerante de Saúde Mental no Ensino Superior
DESCRIPTION:O Sexto Fórum Itinerante de Saúde Mental no Ensino Superior\, promovido pela Pró-Reitoria de Assuntos Estudantis (Prae/UFCA)\, tem como objetivo ampliar as reflexões acerca da importância de discutir a saúde mental no ambiente acadêmico\, promovendo mais bem-estar entre os estudantes. \nEste ano a programação inicia no campus Crato\, no dia 5 de setembro de 2022\, às 14h\, na sala M205 (sala de eventos). O encontro contará com a convidada Patrycia Bacurau (médica psiquiatra)\, que conduzirá uma roda de conversa sobre Autismo. \nNo dia 13 de setembro de 2022\, às 14h\, o evento será realizado no campus Juazeiro do Norte\, no auditório Beata Maria de Araújo. O psicólogo Marcos Teles apresentará a palestra Procrastinação: algumas contribuições a partir das Terapias Comportamentais. \nJá no dia 21 de setembro de 2022\, o evento continua no campus Barbalha\, no Auditório da Faculdade de Medicina (Famed/UFCA)\, onde o psquiatra da Prae/UFCA\, Crístenes Sanches\, vai ministrar a palestra “Saúde Mental na Carreira Médica”\, a partir das 14h. \nNo dia 29 de setembro de 2022\, será o encerramento do fórum com a programação no campus Brejo Santo. O médico psiquiatra Crístenes Sanches falará sobre saúde mental no ensino superior. O evento será realizado na sala 10\, às 16h30. \nInscrições no site do evento (link para uma nova página). \n  \n  \n
URL:https://www.ufca.edu.br/evento/sexto-forum-itinerante-de-saude-mental-no-ensino-superior/
LOCATION:Campus Crato\, campus Juazeiro do Norte e campus Brejo Santo\, Brasil
CATEGORIES:Eventos
ATTACH;FMTTYPE=image/jpeg:https://www.ufca.edu.br/portal/wp-content/uploads/2022/09/9FBB2536-24BA-4715-8E29-FF5DDA2E1FA5.jpeg
ORGANIZER;CN="Pr%C3%B3-Reitoria%20de%20Assuntos%20Estudantis":MAILTO:prae@ufca.edu.br
END:VEVENT
BEGIN:VEVENT
DTSTART;TZID="America/Fortaleza":20220923T173000
DTEND;TZID="America/Fortaleza":20220923T193000
DTSTAMP:20260425T150244
CREATED:20220921T184910Z
LAST-MODIFIED:20220921T185229Z
UID:39061-1663954200-1663961400@www.ufca.edu.br
SUMMARY:Primeira edição do “Mirante Sonoro”
DESCRIPTION:A Pró-Reitoria de Cultura da Universidade Federal do Cariri (Procult/UFCA)\, com apoio do grupo de pesquisa Nave\, vai realizar nesta sexta-feira\, 23 de setembro de 2022\, a primeira edição do Mirante Sonoro. O evento é gratuito e ocorrerá no mirante do campus Juazeiro do Norte da UFCA. \nEsta primeira edição do Mirante Sonoro tem como atração principal o trio Imbú (formado pelos estudantes de Música da UFCA Raimar\, Fernando Leite e Ana Júlia)\, além de dois convidados: Gabriel Melo e Tatyana Maia.  \nNão é necessário realizar inscrição. \n
URL:https://www.ufca.edu.br/evento/primeira-edicao-do-mirante-sonoro/
LOCATION:Campus Juazeiro do Norte
CATEGORIES:Cultura
ATTACH;FMTTYPE=image/jpeg:https://www.ufca.edu.br/portal/wp-content/uploads/2022/09/Imbu-Trio3.jpg
END:VEVENT
END:VCALENDAR