BEGIN:VCALENDAR
VERSION:2.0
PRODID:-//Universidade Federal do Cariri - ECPv4.9.5//NONSGML v1.0//EN
CALSCALE:GREGORIAN
METHOD:PUBLISH
X-WR-CALNAME:Universidade Federal do Cariri
X-ORIGINAL-URL:https://www.ufca.edu.br
X-WR-CALDESC:Eventos para Universidade Federal do Cariri
BEGIN:VTIMEZONE
TZID:"America/Fortaleza"
BEGIN:STANDARD
TZOFFSETFROM:-0300
TZOFFSETTO:-0300
TZNAME:-03
DTSTART:20220101T000000
END:STANDARD
END:VTIMEZONE
BEGIN:VEVENT
DTSTART;TZID="America/Fortaleza":20220920T080000
DTEND;TZID="America/Fortaleza":20220922T170000
DTSTAMP:20260425T150238
CREATED:20220720T143332Z
LAST-MODIFIED:20220720T143333Z
UID:38325-1663660800-1663866000@www.ufca.edu.br
SUMMARY:Terceiro Congresso de Pesquisa\, Pós-Graduação e Inovação (Conpesq 2022)
DESCRIPTION:A Pró-Reitoria de Pesquisa\, Pós-Graduação e Inovação (PRPI/UFCA) torna público o Edital 05/2022/PRPI/UFCA (link para uma nova página) para as inscrições no terceiro Congresso de Pesquisa\, Pós-Graduação e Inovação (Conpesq 2022). O evento ocorrerá no período de 20 a 22 de setembro de 2022\, em formato presencial. O tema abordado nesta edição será “Ciência e Tecnologia para o Desenvolvimento Social”. \nO Terceiro Conpesq contará com a realização de minicursos\, de palestras e de mesas redondas sobre assuntos de interesse da comunidade universitária. A apresentação de trabalhos é aberta para comunidade acadêmica da UFCA; estudantes do Ensino Médio; bolsistas ou voluntários\, envolvidos em atividades de Pesquisa na UFCA; e estudantes de outras instituições de ensino. Serão premiados os trabalhos que obtiverem destaque. \nPara mais informações acesse o site do evento (link para uma nova página). \n
URL:https://www.ufca.edu.br/evento/terceiro-congresso-de-pesquisa-pos-graduacao-e-inovacao-conpesq-2022/
LOCATION:Campus Juazeiro do Norte
CATEGORIES:Eventos
ATTACH;FMTTYPE=image/jpeg:https://www.ufca.edu.br/portal/wp-content/uploads/2022/07/ConPesq.jpeg
END:VEVENT
END:VCALENDAR