BEGIN:VCALENDAR
VERSION:2.0
PRODID:-//Universidade Federal do Cariri - ECPv4.9.5//NONSGML v1.0//EN
CALSCALE:GREGORIAN
METHOD:PUBLISH
X-WR-CALNAME:Universidade Federal do Cariri
X-ORIGINAL-URL:https://www.ufca.edu.br
X-WR-CALDESC:Eventos para Universidade Federal do Cariri
BEGIN:VTIMEZONE
TZID:"America/Fortaleza"
BEGIN:STANDARD
TZOFFSETFROM:-0300
TZOFFSETTO:-0300
TZNAME:-03
DTSTART:20220101T000000
END:STANDARD
END:VTIMEZONE
BEGIN:VEVENT
DTSTART;TZID="America/Fortaleza":20220628T163000
DTEND;TZID="America/Fortaleza":20220628T183000
DTSTAMP:20260425T181642
CREATED:20220624T123021Z
LAST-MODIFIED:20220624T123022Z
UID:38120-1656433800-1656441000@www.ufca.edu.br
SUMMARY:2ª Assembleia Geral Universitária 2022
DESCRIPTION:O Pró-Reitor de Administração\, no exercício da Reitoria\, da Universidade Federal do Cariri (UFCA)\, Silvério de Paiva Freitas Júnior\, convoca – nos termos do Art. 26 do Estatuto da UFCA (link para uma nova página) – toda a comunidade universitária para participar da segunda Assembleia Geral Universitária de 2022\, que ocorrerá no próximo dia 28 de junho de 2022 (terça-feira)\, às 16h30 (horário retificado em relação à primeira versão da convocação)\, para tratar da seguinte pauta: \n\nDiscussão sobre a eleição para a Reitoria da Universidade Federal do Cariri.\n\nA Assembleia Geral Universitária será realizada de forma presencial\, no auditório Beata Maria de Araújo\, bloco H\, campus Juazeiro do Norte da UFCA. \n
URL:https://www.ufca.edu.br/evento/2a-assembleia-geral-universitaria-2022/
CATEGORIES:Eventos
ATTACH;FMTTYPE=image/jpeg:https://www.ufca.edu.br/portal/wp-content/uploads/2022/06/assembleia-geral.jpeg
END:VEVENT
END:VCALENDAR