BEGIN:VCALENDAR
VERSION:2.0
PRODID:-//Universidade Federal do Cariri - ECPv4.9.5//NONSGML v1.0//EN
CALSCALE:GREGORIAN
METHOD:PUBLISH
X-WR-CALNAME:Universidade Federal do Cariri
X-ORIGINAL-URL:https://www.ufca.edu.br
X-WR-CALDESC:Eventos para Universidade Federal do Cariri
BEGIN:VTIMEZONE
TZID:"America/Fortaleza"
BEGIN:STANDARD
TZOFFSETFROM:-0300
TZOFFSETTO:-0300
TZNAME:-03
DTSTART:20220101T000000
END:STANDARD
END:VTIMEZONE
BEGIN:VEVENT
DTSTART;TZID="America/Fortaleza":20220606T180000
DTEND;TZID="America/Fortaleza":20220617T180000
DTSTAMP:20260425T195837
CREATED:20220530T151329Z
LAST-MODIFIED:20220601T131721Z
UID:37687-1654538400-1655488800@www.ufca.edu.br
SUMMARY:Oficina Construção de Cordel e Xilogravura
DESCRIPTION:Os projetos “Engenharia Cordel e Cariri II – 2020” e “Interação Cultural – Construindo com Cordel – 2022” promovem a oficina Construção de Cordel e Xilogravura\, durante junho de 2022. O curso é gratuito e aberto ao público\, voltado especialmente para a comunidade acadêmica de Engenharia e Construção Civil da região do Cariri. \nA intenção é fortalecer a formação de uma massa crítica com capacidade de externar o conhecimento científico de\nEngenharia\, através da literatura de cordel\, e contribuir com a interação entre o saber popular e o saber acadêmico. \nAo todo estão sendo ofertadas 20 vagas presenciais. Porém\, qualquer pessoa poderá ter acesso ao conteúdo do curso\, por meio do canal do Youtube Engenharia Cordel e Cariri (link para uma nova página). \nA oficina\, coordenada pelo professor da UFCA\, Aerson Moreira Barreto\, será realizada nos dias 6\, 7\, 10\, 14 e 17 de junho de 2022\, no campus Juazeiro do Norte. Contará com a participação da cordelista Maria do Rosário da Academia dos Cordelistas da Cidade do Crato (ACC) e do xilógrafo Carlos Henrique. \nAs inscrições seguem até 18h do dia 6 de junho\, no site do evento (link para uma nova página). Os participantes terão direito a certificado com carga horária de 20 horas (incluindo exposição teórico/prática e atividades). \nConfira a programação completa: \nDia 6 de junho – Das 19h às 20h: Abertura – auditório Bárbara de Alencar\, campus Juazeiro do Norte. \nPARTE I – CORDEL\nMinistrante: Maria do Rosário Lustosa da Cruz\nDia 7 de junho: Construção de Cordel 1 – Histórico e fundamentos – Das 14 às 17 horas – sala 21G\, campus Juazeiro do Norte\nDia 10 de junho: Construção de Cordel 2 – Prática na formação de Cordel – Das 14 às 17 horas – sala 21G\, campus Juazeiro do Norte \nPARTE II – XILOGRAVURA\nMinistrante: Carlos Henrique Soares\nDia 14 de junho: Construção de Xilogravura 1 – Histórico\, Fundamentos e prática – sala 21G\, campus Juazeiro do Norte\nDia 17 de junho: Construção de Xilogravura 2 – Prática e criatividade na xilogravura – sala 21G\, campus Juazeiro do Norte \nMais informações: engenhariacordelecariri.procult@ufca.edu.br \n  \n
URL:https://www.ufca.edu.br/evento/oficina-construcao-de-cordel-e-xilogravura/
LOCATION:Miniauditório Bárbara de Alencar – Campus Juazeiro do Norte
CATEGORIES:Eventos
ORGANIZER;CN="Engenharia%20Cordel%20e%20Cariri":MAILTO:engenhariacordelecariri@gmail.com
END:VEVENT
END:VCALENDAR