BEGIN:VCALENDAR
VERSION:2.0
PRODID:-//Universidade Federal do Cariri - ECPv4.9.5//NONSGML v1.0//EN
CALSCALE:GREGORIAN
METHOD:PUBLISH
X-WR-CALNAME:Universidade Federal do Cariri
X-ORIGINAL-URL:https://www.ufca.edu.br
X-WR-CALDESC:Eventos para Universidade Federal do Cariri
BEGIN:VTIMEZONE
TZID:"America/Fortaleza"
BEGIN:STANDARD
TZOFFSETFROM:-0300
TZOFFSETTO:-0300
TZNAME:-03
DTSTART:20220101T000000
END:STANDARD
END:VTIMEZONE
BEGIN:VEVENT
DTSTART;TZID="America/Fortaleza":20220527T190000
DTEND;TZID="America/Fortaleza":20220527T220000
DTSTAMP:20260425T214703
CREATED:20220516T180549Z
LAST-MODIFIED:20220518T175454Z
UID:37524-1653678000-1653688800@www.ufca.edu.br
SUMMARY:Lançamento dos livros "Filosofia em Rede - Educação como prática de liberdade" e "Filosofia em Rede - Filosofia para adiar o fim do mundo"
DESCRIPTION:O curso de Filosofia da Universidade Federal do Cariri (UFCA) realizará na próxima sexta-feira\, dia 27 de maio\, às 19h\, o lançamento da obra “Filosofia em Rede”\, publicada em dois volumes. Os  dois e-books – disponibilizados para download pela editora Phillos Academy (link para uma nova página)  – são uma coletânea de artigos  produzidos por pesquisadores da UFCA\, em parceria com o Instituto Trilhas (link para uma nova página)\, organização de fomento à Educação socioambiental. \nUm dos volumes é o  “Filosofia em Rede – Educação como prática de liberdade”\, que é uma homenagem ao Centenário do educador e patrono da Educação brasileira Paulo Freire. A obra – organizada pelo professor do curso de Filosofia da UFCA\, Francisco José\, em parceria com professor e pesquisador Ismael Lima\, fundador do Instituto Trilhas  – é fruto de um webinário promovido por ambas as instituições. O outro volume\, por sua vez\, é intitulado “Filosofia em Rede – Filosofia para adiar o fim do mundo”\, organizado por Ismael Lima. \nO evento\, que ocorre de forma presencial\, será realizado no Miniauditório Bárbara de Alencar (Bloco E\, piso inferior)\, no campus Juazeiro do Norte.  \n
URL:https://www.ufca.edu.br/evento/lancamento-dos-livros-filosofia-em-rede-educacao-como-pratica-de-liberdade-e-filosofia-em-rede-filosofia-para-adiar-o-fim-do-mundo/
LOCATION:Miniauditório Bárbara de Alencar – Campus Juazeiro do Norte
CATEGORIES:Eventos
ATTACH;FMTTYPE=image/jpeg:https://www.ufca.edu.br/portal/wp-content/uploads/2022/05/WhatsApp-Image-2022-05-16-at-14.48.05.jpeg
END:VEVENT
END:VCALENDAR