BEGIN:VCALENDAR
VERSION:2.0
PRODID:-//Universidade Federal do Cariri - ECPv4.9.5//NONSGML v1.0//EN
CALSCALE:GREGORIAN
METHOD:PUBLISH
X-WR-CALNAME:Universidade Federal do Cariri
X-ORIGINAL-URL:https://www.ufca.edu.br
X-WR-CALDESC:Eventos para Universidade Federal do Cariri
BEGIN:VTIMEZONE
TZID:"America/Fortaleza"
BEGIN:STANDARD
TZOFFSETFROM:-0300
TZOFFSETTO:-0300
TZNAME:-03
DTSTART:20220101T000000
END:STANDARD
END:VTIMEZONE
BEGIN:VEVENT
DTSTART;TZID="America/Fortaleza":20220524T183000
DTEND;TZID="America/Fortaleza":20220524T210000
DTSTAMP:20260425T214723
CREATED:20220520T195522Z
LAST-MODIFIED:20220520T195804Z
UID:37581-1653417000-1653426000@www.ufca.edu.br
SUMMARY:Ciclo de palestras - Cariri Consciente/NAF
DESCRIPTION:O programa de extensão Cariri Consciente e o Núcleo de Apoio Contábil e Fiscal (NAF)\, da Universidade Federal do Cariri (UFCA)\, promovem um ciclo de palestras sobre imposto de renda e contabilidade. O evento será realizado no dia 24 de maio de 2022\, às 18h30\, no auditório Beata Maria de Araújo\, no campus Juazeiro do Norte. \nNa ocasião\, estarão disponíveis três palestras para os participantes: \n\nPalestra Projeto Destinação do Imposto de Renda e Projeto Novos Destinos\, com Wilmar Teixeira de Souza e Maria Joselice Lopes de Oliveira\, representantes da Receita Federal do Brasil.\nPalestra As Novas DCNs para a Formação do Profissional da Contabilidade\, com o professor Antonio Quirino Gomes\, representante do Conselho Regional de Contabilidade do Ceará (CRC-CE).\nPalestra Casos e Cousos sobre a Destinação de Imposto de Renda\, com o professor Francisco Leite de Oliveira Filho\, contador e advogado.\n\nO evento é gratuito e haverá emissão de certificado de 4 horas para os inscritos. Para se inscrever acesse o formulário on-line (link para uma nova página). \n
URL:https://www.ufca.edu.br/evento/ciclo-de-palestras-cariri-consciente-naf/
LOCATION:Auditório Beata Maria de Araújo\, Av. Tenente Raimundo Rocha\, 1639\, Juazeiro do Norte\, Ceará\, 63048-080\, Brasil
CATEGORIES:Eventos
END:VEVENT
END:VCALENDAR