BEGIN:VCALENDAR
VERSION:2.0
PRODID:-//Universidade Federal do Cariri - ECPv4.9.5//NONSGML v1.0//EN
CALSCALE:GREGORIAN
METHOD:PUBLISH
X-WR-CALNAME:Universidade Federal do Cariri
X-ORIGINAL-URL:https://www.ufca.edu.br
X-WR-CALDESC:Eventos para Universidade Federal do Cariri
BEGIN:VTIMEZONE
TZID:"America/Fortaleza"
BEGIN:STANDARD
TZOFFSETFROM:-0300
TZOFFSETTO:-0300
TZNAME:-03
DTSTART:20220101T000000
END:STANDARD
END:VTIMEZONE
BEGIN:VEVENT
DTSTART;TZID="America/Fortaleza":20220425T183000
DTEND;TZID="America/Fortaleza":20220427T183000
DTSTAMP:20260425T232719
CREATED:20220418T162547Z
LAST-MODIFIED:20220418T162548Z
UID:37170-1650911400-1651084200@www.ufca.edu.br
SUMMARY:Primeira Semana de Letras-Libras
DESCRIPTION:Entre os dias 25 e 27 de abril\, será realizada a Primeira Semana de Letras-Libras da Universidade Federal do Cariri (UFCA)\, com o tema 20 anos da Lei de Libras. O evento é gratuito e contará com certificado para os participantes. \nAs inscrições podem ser feitas no formulário on-line (link para uma nova página). O evento será realizado presencialmente no campus Juazeiro do Norte. É obrigatória a apresentação de passaporte vacinal comprovando pelo menos duas doses da vacina de covid-19 e o uso de máscaras. \nSegue a programação: \nDia 25 de abril\n18h30 – 20 anos da Lei de Libras no Brasil – avanços\, conquistas e desafios\nDebatedores:\n– Prof. Me. Mardônio Oliveira (UFCA)\n– Profª. Me. Miriam Royer (UFCA)\n– Prof. Me. João Filho (UFCA).\nMediador: Prof. Dr. Lucas Romário (UFCA) \nDia 26 de abril\n14h – Mesa redonda: “20 anos de história do Intra no Cariri”\nDebatedores/as:\n– Profª. Me. Gisele Garcia (UFCA/INTRA)\n– Prof. Alex Cassimiro de Souza (Prefeitura de Juazeiro do Norte)\n– José Alex de Souza (UFCA)\n– Lucieldo Santana (INTRA).\nMediador: Prof. Me. Mardônio Oliveira (UFCA). \n16h – Mesa redonda: “Vestígios históricos da educação de pessoas surdas no cariri cearense: relatos de pesquisa acadêmica”.\nDebatedores/as:\n– Prof. Dr. Lucas Romário (UFCA)\n– Lincoln Damacena (UFCA)\n– Vanessa Ferreira (UFCA)\nMediador: Prof. Me. Mardônio Oliveira (UFCA). \n18h30 – Implantação da Escola Bilíngue de Surdos em Juazeiro do Norte\nDebatedores/as:\n– Crisiane Batti (DIPEBS/MEC)\n– Pergentina Parente Jardim Catunda (Secretaria de Educação de Juazeiro do Norte)\n– Lucélia Sampaio (Secretaria de Educação de Juazeiro do Norte)\n– Prof. Me. Roger Prestes (UFCA)\n– Cleide Barbosa (INTRA).\nMediador: Prof. Dr. Lucas Romário (UFCA) \nDia 27 de abril\n14h – Oficinas Libras Básico:\n15 vagas com Júlia Alves (ouvinte) e Júlia Andrade (surda) – sala K04\n15 vagas com Tainara Reis (ouvinte) e Romana Pinheiro (surda) – sala K06\n
URL:https://www.ufca.edu.br/evento/primeira-semana-de-letras-libras/
LOCATION:Campus Juazeiro do Norte
CATEGORIES:Eventos
ATTACH;FMTTYPE=image/png:https://www.ufca.edu.br/portal/wp-content/uploads/2022/04/Letras-Libras.png
END:VEVENT
END:VCALENDAR