BEGIN:VCALENDAR
VERSION:2.0
PRODID:-//Universidade Federal do Cariri - ECPv4.9.5//NONSGML v1.0//EN
CALSCALE:GREGORIAN
METHOD:PUBLISH
X-WR-CALNAME:Universidade Federal do Cariri
X-ORIGINAL-URL:https://www.ufca.edu.br
X-WR-CALDESC:Eventos para Universidade Federal do Cariri
BEGIN:VTIMEZONE
TZID:"America/Fortaleza"
BEGIN:STANDARD
TZOFFSETFROM:-0300
TZOFFSETTO:-0300
TZNAME:-03
DTSTART:20220101T000000
END:STANDARD
END:VTIMEZONE
BEGIN:VEVENT
DTSTART;TZID="America/Fortaleza":20220316T143000
DTEND;TZID="America/Fortaleza":20220317T170000
DTSTAMP:20260426T023715
CREATED:20220311T151716Z
LAST-MODIFIED:20220311T152020Z
UID:36574-1647441000-1647536400@www.ufca.edu.br
SUMMARY:Quarto Encontro Pedagógico - Edição 2022
DESCRIPTION:A Pró-Reitoria de Graduação (Prograd/UFCA) convida a comunidade acadêmica para participar do Quarto Encontro Pedagógico – Edição 2022. No dia 16 de março\, será abordado o desenvolvimento socioemocional e as perspectivas para o processo de ensino-aprendizagem. Participa a psicóloga Ana Hirlene de Brito Correia Oliveira\, com a mediação  do psicólogo Roosevelt Ibiapina (UFCA). \n \n  \nJá no dia 17 de março\, o evento tratará sobre educação híbrida\, com a participação do professor José Moran\, da Universidade de São Paulo (USP). \n \n  \nTodos os encontros começam às 14h30\, no Auditório Virtual da UFCA (link para uma nova página).\nInscrição e Certificação no portal do Ambiente Virtual de Aprendizagem (link para uma nova página). \n  \n  \n
URL:https://www.ufca.edu.br/evento/quarto-encontro-pedagogico-edicao-2022/
LOCATION:Auditório Virtual da UFCA
CATEGORIES:Eventos
ATTACH;FMTTYPE=image/jpeg:https://www.ufca.edu.br/portal/wp-content/uploads/2022/03/logo-e1647011858593.jpeg
END:VEVENT
BEGIN:VEVENT
DTSTART;TZID="America/Fortaleza":20220317T140000
DTEND;TZID="America/Fortaleza":20220317T160000
DTSTAMP:20260426T023715
CREATED:20220315T215656Z
LAST-MODIFIED:20220315T215812Z
UID:36637-1647525600-1647532800@www.ufca.edu.br
SUMMARY:23º Andanças Culturais
DESCRIPTION:  \nA 23ª edição do Projeto Andanças Culturais\, realizado pelo Programa de Educação Tutorial do Curso de Administração da Universidade Federal do Cariri (PETADM-UFCA)\, trará como tema: “Do mateu do Reisado de Congo ao mateu teatral de rua”. A Convidada desta edição será a componente do Grupo “Os Mateu de Teatro” Maria Irani de Souza (Licenciatura Plena em Teatro – Universidade Regional do Cariri). \nO evento ocorrerá dia 17 de março de 2022 (quinta-feira)\, das 14h às 16h\, pela Plataforma Google Meet. \nPara participar\, é preciso realizar inscrição\, disponível em formulário eletrônico (link para uma nova página).\nO evento é aberto ao público e os inscritos receberão um e-mail com o link do Google Meet. \nServiço \nPrograma de Educação Tutorial do Curso de Administração\npetadm.ccsa@ufca.edu.br \n
URL:https://www.ufca.edu.br/evento/23o-andancas-culturais/
LOCATION:On-line
CATEGORIES:Eventos
ATTACH;FMTTYPE=image/png:https://www.ufca.edu.br/portal/wp-content/uploads/2022/03/23ª-Edição-Grupo-Os-Mateu-de-teatro-1ª-art.png
END:VEVENT
END:VCALENDAR