BEGIN:VCALENDAR
VERSION:2.0
PRODID:-//Universidade Federal do Cariri - ECPv4.9.5//NONSGML v1.0//EN
CALSCALE:GREGORIAN
METHOD:PUBLISH
X-WR-CALNAME:Universidade Federal do Cariri
X-ORIGINAL-URL:https://www.ufca.edu.br
X-WR-CALDESC:Eventos para Universidade Federal do Cariri
BEGIN:VTIMEZONE
TZID:"America/Fortaleza"
BEGIN:STANDARD
TZOFFSETFROM:-0300
TZOFFSETTO:-0300
TZNAME:-03
DTSTART:20220101T000000
END:STANDARD
END:VTIMEZONE
BEGIN:VEVENT
DTSTART;TZID="America/Fortaleza":20220314T080000
DTEND;TZID="America/Fortaleza":20220314T113000
DTSTAMP:20260426T011805
CREATED:20220309T194051Z
LAST-MODIFIED:20220311T143514Z
UID:36564-1647244800-1647257400@www.ufca.edu.br
SUMMARY:Aula Magna - Matemática Computacional e Ciência da Computação
DESCRIPTION:Data: 14 de março de 2022\nHorário: 8h30 – 11h30\nLocal: Auditório Beata Maria de Araújo – UFCA Campus Juazeiro do Norte\nApoio: PRPI/UFCA\, Programa de Inovação Institucional. Calang.io \n  \nConvidados: \n1. Prof. Joel Rodrigues\nPresidente do Conselho Científico e Tecnológico\nParque de Ciência e Tecnologia da Covilhã\, PARKURBIS\, Portugal. \nTema:\nInternet das Coisas: a Nova Era para Ambientes Inteligentes.\nInternet of Things: the New Era for Smart Environments  \n2. Elgton Lucena\nLink Cariri \nTema:\nOs avanços de conectividade à internet no Ceará e no Cariri \n  \n
URL:https://www.ufca.edu.br/evento/aula-magna-matematica-computacional-e-ciencia-da-computacao/
LOCATION:Auditório Beata Maria de Araújo – campus Juazeiro do Norte UFCA\, Avenida Tenente Raimundo Rocha\, 1649\, Juazeiro do Norte\, Ceará\, 63048080\, Brasil
CATEGORIES:Eventos
ATTACH;FMTTYPE=image/jpeg:https://www.ufca.edu.br/portal/wp-content/uploads/2022/03/WhatsApp-Image-2022-03-09-at-16.26.43.jpeg
END:VEVENT
END:VCALENDAR