BEGIN:VCALENDAR
VERSION:2.0
PRODID:-//Universidade Federal do Cariri - ECPv4.9.5//NONSGML v1.0//EN
CALSCALE:GREGORIAN
METHOD:PUBLISH
X-WR-CALNAME:Universidade Federal do Cariri
X-ORIGINAL-URL:https://www.ufca.edu.br
X-WR-CALDESC:Eventos para Universidade Federal do Cariri
BEGIN:VTIMEZONE
TZID:"America/Fortaleza"
BEGIN:STANDARD
TZOFFSETFROM:-0300
TZOFFSETTO:-0300
TZNAME:-03
DTSTART:20220101T000000
END:STANDARD
END:VTIMEZONE
BEGIN:VEVENT
DTSTART;TZID="America/Fortaleza":20220308T150000
DTEND;TZID="America/Fortaleza":20220309T200000
DTSTAMP:20260426T011934
CREATED:20220207T171903Z
LAST-MODIFIED:20220207T171905Z
UID:36320-1646751600-1646856000@www.ufca.edu.br
SUMMARY:Quarto Encontro Cearense de Mulheres nas Ciências Exatas
DESCRIPTION:Nos dias 8 e 9 de março de 2022\, a Universidade Federal do Cariri (UFCA) promoverá o Quarto  Encontro Cearense de Mulheres nas Ciências Exatas (evento on-line). \nRealizado anualmente na semana do Dia Internacional da Mulher\, o evento prioriza a divulgação de estudos e pesquisas sobre a participação da mulher no cenário científico no Brasil. \nEste ano terá como palestrantes as professoras Naise Caldas (Universidade Federal do Piauí)\, Viviane Santos (Universidade Federal de Alagoas)\,  Juliana Theodoro (Universidade Federal de Alagoas) e Samuraí Brito (Universidade Federal do Rio Grande do Norte). \nPara se inscrever e conferir a programação completa\, acesse o site do evento (link para uma nova página). \n\n
URL:https://www.ufca.edu.br/evento/quarto-encontro-cearense-de-mulheres-nas-ciencias-exatas/
LOCATION:Evento on-line
CATEGORIES:Eventos
ATTACH;FMTTYPE=image/jpeg:https://www.ufca.edu.br/portal/wp-content/uploads/2022/02/C73A04B3-FA17-4C4D-BEFC-0CC448D8E57A.jpeg
END:VEVENT
END:VCALENDAR