BEGIN:VCALENDAR
VERSION:2.0
PRODID:-//Universidade Federal do Cariri - ECPv4.9.5//NONSGML v1.0//EN
CALSCALE:GREGORIAN
METHOD:PUBLISH
X-WR-CALNAME:Universidade Federal do Cariri
X-ORIGINAL-URL:https://www.ufca.edu.br
X-WR-CALDESC:Eventos para Universidade Federal do Cariri
BEGIN:VTIMEZONE
TZID:"America/Fortaleza"
BEGIN:STANDARD
TZOFFSETFROM:-0300
TZOFFSETTO:-0300
TZNAME:-03
DTSTART:20190101T000000
END:STANDARD
END:VTIMEZONE
BEGIN:VEVENT
DTSTART;TZID="America/Fortaleza":20191021T080000
DTEND;TZID="America/Fortaleza":20191114T170000
DTSTAMP:20260419T121614
CREATED:20190627T184414Z
LAST-MODIFIED:20191001T181541Z
UID:7167-1571644800-1573750800@www.ufca.edu.br
SUMMARY:Período de demanda de turmas regulares para 2020.1 pelas coordenações de cursos de graduação
DESCRIPTION:
URL:https://www.ufca.edu.br/evento/periodo-de-demanda-de-turmas-regulares-para-2020-1-pelas-coordenacoes-de-cursos-de-graduacao/
CATEGORIES:Calendário Universitário
END:VEVENT
BEGIN:VEVENT
DTSTART;TZID="America/Fortaleza":20191022T080000
DTEND;TZID="America/Fortaleza":20191022T180000
DTSTAMP:20260419T121614
CREATED:20190813T131029Z
LAST-MODIFIED:20191007T134758Z
UID:13841-1571731200-1571767200@www.ufca.edu.br
SUMMARY:II Seminário Regional de Inovação na Engenharia Civil
DESCRIPTION:O II Seminário Regional Inovação na Engenharia Civil (II SRIEC) é um evento voltado para a disseminação das experiências inovadoras\, praticadas tanto no mercado como nos setores acadêmicos\, na busca de melhorias de processos produtivos nas atividades de eEngenharia Civil e valorização da formação universitária na demanda ascendente de mão de obra no país. \nA série SRIEC tem sua origem na série SIEC (Seminário Inovação na engenharia Civil) que ocorreu na Universidade Federal Rural do Semiárido (UFERSA)\, e que contribuiu para a consolidação do curso de Engenharia Civil naquela universidade\, o combate à evasão e o despertar pelo interesse da profissão de engenheiro civil entre os jovens estudantes da região central do RN. Na UFCA\, a série desse evento procura tomar um aspecto regional com envolvimento\, inicialmente\, de professores representantes de universidades dos estados do Ceará\, Paraíba e Rio grande do Norte. Na sequencia\, após a realização do evento\, haverá a formação de uma rede permanente de fortalecimento do debate em torno de inovação com envolvimento de docentes e discentes\, tornando assim um projeto contínuo e intermitente entre as instituições representadas. Outro aspecto importante é o incentivo e apoio que a rede promoverá para a produção científica com interação entre grupos de pesquisa na área de inovação\, e elaboração de projetos destinados às instituições de incentivo à pesquisa sobre o tema que originou a rede: Inovação na engenharia civil. \nO II SRIEC é um projeto de extensão com a finalidade geral de aproximação entre a comunidade e a universidade\, tomando com base os princípios da extensão universitária. Outra finalidade é dar continuidade ao fortalecimento do curso de Engenharia Civil e contribuir para a inserção dos grandes temas no dia a dia de sua vida acadêmica. Assim\, os temas abordados referem-se a pesquisas atuais e novas práticas adotadas nas melhores obras do Brasil e exterior\, nos grandes eventos de engenharia e objeto de discussão nas melhores universidades brasileiras. \nO II SRIEC terá como tema central a pesquisa\, sustentabilidade e inovação como novos desafios no âmbito da Engenharia Civil\, especificamente na construção civil. \nRealização \nEste evento é uma realização da Universidade Federal do Cariri (UFCA) através do Curso de Engenharia Civil da UFCA\, Centro de Ciências e Tecnologia\, e Pró-Reitoria de Pesquisa\, Pós-Graduação e Inovação. \nInscrições \nAs inscrições são gratuitas e estarão abertas no período de 01 a 20 de outubro de 2019. \nAcesse a programação completa.  \n  \n \n
URL:https://www.ufca.edu.br/evento/ii-seminario-regional-de-inovacao-na-engenharia-civil/
CATEGORIES:Calendário Universitário
END:VEVENT
BEGIN:VEVENT
DTSTART;TZID="America/Fortaleza":20191022T150000
DTEND;TZID="America/Fortaleza":20191024T220000
DTSTAMP:20260419T121614
CREATED:20190814T180419Z
LAST-MODIFIED:20190823T122223Z
UID:14004-1571756400-1571954400@www.ufca.edu.br
SUMMARY:I Congresso de Pesquisa\, Pós-graduação e Inovação
DESCRIPTION:O Congresso de Pesquisa\, Pós-Graduação e Inovação tem como objetivo estimular os alunos dos cursos de graduação e pós-graduação da UFCA\, e de outras instituições de ensino superior (IES)\, a desenvolverem e divulgarem atividades de produção científica\, aperfeiçoando a formação profissional\, propiciando uma vivência acadêmica mais intensa e o aprofundamento de seus conhecimentos. \nO I CPPGI acontecerá separadamente da Mostra UFCA e será o evento oficial para apresentação de trabalhos por parte dos bolsistas e voluntários integrantes do PIICT (bolsas PIBIC\, PIBITI e PIBIC-EM) da PRPI/UFCA. \nBolsistas e voluntários dos editais 01/2018/PRPI/FUNCAP e 02/2018/PRPI/CNPq/UFCA devem apresentar seus trabalhos neste evento\, salvo se já foi apresentado em outro evento equivalente. \n
URL:https://www.ufca.edu.br/evento/i-congresso-de-pesquisa-pos-graduacao-e-inovacao/
CATEGORIES:Calendário Universitário,Eventos
ATTACH;FMTTYPE=image/jpeg:https://www.ufca.edu.br/portal/wp-content/uploads/2019/08/Logo-CPPGI.jpg
END:VEVENT
END:VCALENDAR