BEGIN:VCALENDAR
VERSION:2.0
PRODID:-//Universidade Federal do Cariri - ECPv4.9.5//NONSGML v1.0//EN
CALSCALE:GREGORIAN
METHOD:PUBLISH
X-WR-CALNAME:Universidade Federal do Cariri
X-ORIGINAL-URL:https://www.ufca.edu.br
X-WR-CALDESC:Eventos para Universidade Federal do Cariri
BEGIN:VTIMEZONE
TZID:"America/Fortaleza"
BEGIN:STANDARD
TZOFFSETFROM:-0300
TZOFFSETTO:-0300
TZNAME:-03
DTSTART:20190101T000000
END:STANDARD
END:VTIMEZONE
BEGIN:VEVENT
DTSTART;TZID="America/Fortaleza":20190920T080000
DTEND;TZID="America/Fortaleza":20190920T170000
DTSTAMP:20260419T134424
CREATED:20190701T130109Z
LAST-MODIFIED:20190822T173317Z
UID:8004-1568966400-1568998800@www.ufca.edu.br
SUMMARY:Fim do período para solicitação de restabelecimento de vínculo para 2020.1 - cursos de graduação
DESCRIPTION:
URL:https://www.ufca.edu.br/evento/fim-do-periodo-para-solicitacao-de-restabelecimento-de-vinculo-para-2020-1-cursos-de-graduacao/
CATEGORIES:Calendário Universitário
END:VEVENT
END:VCALENDAR