BEGIN:VCALENDAR
VERSION:2.0
PRODID:-//Universidade Federal do Cariri - ECPv4.9.5//NONSGML v1.0//EN
CALSCALE:GREGORIAN
METHOD:PUBLISH
X-WR-CALNAME:Universidade Federal do Cariri
X-ORIGINAL-URL:https://www.ufca.edu.br
X-WR-CALDESC:Eventos para Universidade Federal do Cariri
BEGIN:VTIMEZONE
TZID:"America/Fortaleza"
BEGIN:STANDARD
TZOFFSETFROM:-0300
TZOFFSETTO:-0300
TZNAME:-03
DTSTART:20190101T000000
END:STANDARD
END:VTIMEZONE
BEGIN:VEVENT
DTSTART;TZID="America/Fortaleza":20190916T080000
DTEND;TZID="America/Fortaleza":20190916T170000
DTSTAMP:20260419T134424
CREATED:20190627T184138Z
LAST-MODIFIED:20190701T131725Z
UID:7151-1568620800-1568653200@www.ufca.edu.br
SUMMARY:Início do período para solicitação de restabelecimento de vínculo para 2020.1 - cursos de graduação
DESCRIPTION:
URL:https://www.ufca.edu.br/evento/periodo-para-solicitacao-de-restabelecimento-de-vinculo-para-2020-1-cursos-de-graduacao/
CATEGORIES:Calendário Universitário
END:VEVENT
END:VCALENDAR