BEGIN:VCALENDAR
VERSION:2.0
PRODID:-//Universidade Federal do Cariri - ECPv4.9.5//NONSGML v1.0//EN
CALSCALE:GREGORIAN
METHOD:PUBLISH
X-WR-CALNAME:Universidade Federal do Cariri
X-ORIGINAL-URL:https://www.ufca.edu.br
X-WR-CALDESC:Eventos para Universidade Federal do Cariri
BEGIN:VTIMEZONE
TZID:"America/Fortaleza"
BEGIN:STANDARD
TZOFFSETFROM:-0300
TZOFFSETTO:-0300
TZNAME:-03
DTSTART:20190101T000000
END:STANDARD
END:VTIMEZONE
BEGIN:VEVENT
DTSTART;VALUE=DATE:20190907
DTEND;VALUE=DATE:20190908
DTSTAMP:20260419T134424
CREATED:20190404T172257Z
LAST-MODIFIED:20190404T172257Z
UID:2899-1567814400-1567900799@www.ufca.edu.br
SUMMARY:Feriado Nacional – Independência do Brasil
DESCRIPTION:
URL:https://www.ufca.edu.br/evento/feriado-nacional-independencia-do-brasil/
CATEGORIES:Feriados e recessos
END:VEVENT
END:VCALENDAR