BEGIN:VCALENDAR
VERSION:2.0
PRODID:-//Universidade Federal do Cariri - ECPv4.9.5//NONSGML v1.0//EN
CALSCALE:GREGORIAN
METHOD:PUBLISH
X-WR-CALNAME:Universidade Federal do Cariri
X-ORIGINAL-URL:https://www.ufca.edu.br
X-WR-CALDESC:Eventos para Universidade Federal do Cariri
BEGIN:VTIMEZONE
TZID:"America/Fortaleza"
BEGIN:STANDARD
TZOFFSETFROM:-0300
TZOFFSETTO:-0300
TZNAME:-03
DTSTART:20190101T000000
END:STANDARD
END:VTIMEZONE
BEGIN:VEVENT
DTSTART;VALUE=DATE:20190723
DTEND;VALUE=DATE:20190825
DTSTAMP:20260419T151239
CREATED:20190627T135253Z
LAST-MODIFIED:20190627T135253Z
UID:6936-1563840000-1566691199@www.ufca.edu.br
SUMMARY:Período de notificação de cancelamento de estudantes por decurso de prazo máximo\, em 2019.1 ou com reincidência em critério de assiduidade após assinatura de Termo de Ciência e Compromisso
DESCRIPTION:
URL:https://www.ufca.edu.br/evento/periodo-de-notificacao-de-cancelamento-de-estudantes-por-decurso-de-prazo-maximo-em-2019-1-ou-com-reincidencia-em-criterio-de-assiduidade-apos-assinatura-de-termo-de-ciencia-e-compromisso/
CATEGORIES:Calendário Universitário
END:VEVENT
END:VCALENDAR