BEGIN:VCALENDAR
VERSION:2.0
PRODID:-//Universidade Federal do Cariri - ECPv4.9.5//NONSGML v1.0//EN
CALSCALE:GREGORIAN
METHOD:PUBLISH
X-WR-CALNAME:Universidade Federal do Cariri
X-ORIGINAL-URL:https://www.ufca.edu.br
X-WR-CALDESC:Eventos para Universidade Federal do Cariri
BEGIN:VTIMEZONE
TZID:"America/Fortaleza"
BEGIN:STANDARD
TZOFFSETFROM:-0300
TZOFFSETTO:-0300
TZNAME:-03
DTSTART:20190101T000000
END:STANDARD
END:VTIMEZONE
BEGIN:VEVENT
DTSTART;VALUE=DATE:20190708
DTEND;VALUE=DATE:20190810
DTSTAMP:20260419T151239
CREATED:20190627T134725Z
LAST-MODIFIED:20190627T134725Z
UID:6898-1562544000-1565395199@www.ufca.edu.br
SUMMARY:Processamento de Matrícula em Turma de Férias 2019.3
DESCRIPTION:
URL:https://www.ufca.edu.br/evento/processamento-de-matricula-em-turma-de-ferias-2019-3/
CATEGORIES:Calendário Universitário
END:VEVENT
BEGIN:VEVENT
DTSTART;VALUE=DATE:20190715
DTEND;VALUE=DATE:20190811
DTSTAMP:20260419T151239
CREATED:20190627T135107Z
LAST-MODIFIED:20190627T135107Z
UID:6920-1563148800-1565481599@www.ufca.edu.br
SUMMARY:Período Especial de Férias 2019.3
DESCRIPTION:
URL:https://www.ufca.edu.br/evento/periodo-especial-de-ferias-2019-3/
CATEGORIES:Calendário Universitário
END:VEVENT
BEGIN:VEVENT
DTSTART;VALUE=DATE:20190723
DTEND;VALUE=DATE:20190825
DTSTAMP:20260419T151239
CREATED:20190627T135253Z
LAST-MODIFIED:20190627T135253Z
UID:6936-1563840000-1566691199@www.ufca.edu.br
SUMMARY:Período de notificação de cancelamento de estudantes por decurso de prazo máximo\, em 2019.1 ou com reincidência em critério de assiduidade após assinatura de Termo de Ciência e Compromisso
DESCRIPTION:
URL:https://www.ufca.edu.br/evento/periodo-de-notificacao-de-cancelamento-de-estudantes-por-decurso-de-prazo-maximo-em-2019-1-ou-com-reincidencia-em-criterio-de-assiduidade-apos-assinatura-de-termo-de-ciencia-e-compromisso/
CATEGORIES:Calendário Universitário
END:VEVENT
BEGIN:VEVENT
DTSTART;VALUE=DATE:20190725
DTEND;VALUE=DATE:20190730
DTSTAMP:20260419T151239
CREATED:20190627T135418Z
LAST-MODIFIED:20190627T135418Z
UID:6949-1564012800-1564444799@www.ufca.edu.br
SUMMARY:Oferta de disciplinas para cursos de pós-graduação stricto sensu (pelos Orientadores/Coordenações dos PPGs)(PG)
DESCRIPTION:
URL:https://www.ufca.edu.br/evento/oferta-de-disciplinas-para-cursos-de-pos-graduacao-stricto-sensu-pelos-orientadores-coordenacoes-dos-ppgspg-2/
CATEGORIES:Calendário Universitário
END:VEVENT
BEGIN:VEVENT
DTSTART;VALUE=DATE:20190725
DTEND;VALUE=DATE:20190801
DTSTAMP:20260419T151239
CREATED:20190627T135439Z
LAST-MODIFIED:20190627T135439Z
UID:6955-1564012800-1564617599@www.ufca.edu.br
SUMMARY:Período de recurso pelos estudantes notificados contra o cancelamento por decurso de prazo máximo\, em 2019.1 ou com reincidência após assinatura de Termo de Ciência e Compromisso
DESCRIPTION:
URL:https://www.ufca.edu.br/evento/periodo-de-recurso-pelos-estudantes-notificados-contra-o-cancelamento-por-decurso-de-prazo-maximo-em-2019-1-ou-com-reincidencia-apos-assinatura-de-termo-de-ciencia-e-compromisso/
CATEGORIES:Calendário Universitário
END:VEVENT
BEGIN:VEVENT
DTSTART;VALUE=DATE:20190726
DTEND;VALUE=DATE:20190730
DTSTAMP:20260419T151239
CREATED:20190627T135515Z
LAST-MODIFIED:20190627T135515Z
UID:6959-1564099200-1564444799@www.ufca.edu.br
SUMMARY:Período de matrícula regular 2019.2 para alunos veteranos (via Internet e nas Coordenações de Curso)
DESCRIPTION:
URL:https://www.ufca.edu.br/evento/periodo-de-matricula-regular-2019-2-para-alunos-veteranos-via-internet-e-nas-coordenacoes-de-curso/
CATEGORIES:Calendário Universitário
END:VEVENT
END:VCALENDAR