BEGIN:VCALENDAR
VERSION:2.0
PRODID:-//Universidade Federal do Cariri - ECPv4.9.5//NONSGML v1.0//EN
CALSCALE:GREGORIAN
METHOD:PUBLISH
X-WR-CALNAME:Universidade Federal do Cariri
X-ORIGINAL-URL:https://www.ufca.edu.br
X-WR-CALDESC:Eventos para Universidade Federal do Cariri
BEGIN:VTIMEZONE
TZID:"America/Fortaleza"
BEGIN:STANDARD
TZOFFSETFROM:-0300
TZOFFSETTO:-0300
TZNAME:-03
DTSTART:20190101T000000
END:STANDARD
END:VTIMEZONE
BEGIN:VEVENT
DTSTART;VALUE=DATE:20190708
DTEND;VALUE=DATE:20190810
DTSTAMP:20260419T170152
CREATED:20190627T134725Z
LAST-MODIFIED:20190627T134725Z
UID:6898-1562544000-1565395199@www.ufca.edu.br
SUMMARY:Processamento de Matrícula em Turma de Férias 2019.3
DESCRIPTION:
URL:https://www.ufca.edu.br/evento/processamento-de-matricula-em-turma-de-ferias-2019-3/
CATEGORIES:Calendário Universitário
END:VEVENT
BEGIN:VEVENT
DTSTART;VALUE=DATE:20190714
DTEND;VALUE=DATE:20190722
DTSTAMP:20260419T170152
CREATED:20190627T134951Z
LAST-MODIFIED:20190627T134951Z
UID:6910-1563062400-1563753599@www.ufca.edu.br
SUMMARY:Período de consolidação final das sínteses de notas e frequências de turmas 2019.1
DESCRIPTION:
URL:https://www.ufca.edu.br/evento/periodo-de-consolidacao-final-das-sinteses-de-notas-e-frequencias-de-turmas-2019-1/
CATEGORIES:Calendário Universitário
END:VEVENT
BEGIN:VEVENT
DTSTART;VALUE=DATE:20190715
DTEND;VALUE=DATE:20190720
DTSTAMP:20260419T170152
CREATED:20190627T135021Z
LAST-MODIFIED:20190627T135021Z
UID:6913-1563148800-1563580799@www.ufca.edu.br
SUMMARY:Período de Avaliações Finais do Semestre 2019.1 - todos os campi
DESCRIPTION:
URL:https://www.ufca.edu.br/evento/periodo-de-avaliacoes-finais-do-semestre-2019-1-todos-os-campi/
CATEGORIES:Calendário Universitário
END:VEVENT
BEGIN:VEVENT
DTSTART;VALUE=DATE:20190715
DTEND;VALUE=DATE:20190720
DTSTAMP:20260419T170152
CREATED:20190627T135041Z
LAST-MODIFIED:20190627T135041Z
UID:6916-1563148800-1563580799@www.ufca.edu.br
SUMMARY:Período de criação dos planos de matrícula para estudantes ingressantes 2019.2
DESCRIPTION:
URL:https://www.ufca.edu.br/evento/periodo-de-criacao-dos-planos-de-matricula-para-estudantes-ingressantes-2019-2/
CATEGORIES:Calendário Universitário
END:VEVENT
BEGIN:VEVENT
DTSTART;VALUE=DATE:20190715
DTEND;VALUE=DATE:20190811
DTSTAMP:20260419T170152
CREATED:20190627T135107Z
LAST-MODIFIED:20190627T135107Z
UID:6920-1563148800-1565481599@www.ufca.edu.br
SUMMARY:Período Especial de Férias 2019.3
DESCRIPTION:
URL:https://www.ufca.edu.br/evento/periodo-especial-de-ferias-2019-3/
CATEGORIES:Calendário Universitário
END:VEVENT
END:VCALENDAR