BEGIN:VCALENDAR
VERSION:2.0
PRODID:-//Universidade Federal do Cariri - ECPv4.9.5//NONSGML v1.0//EN
CALSCALE:GREGORIAN
METHOD:PUBLISH
X-WR-CALNAME:Universidade Federal do Cariri
X-ORIGINAL-URL:https://www.ufca.edu.br
X-WR-CALDESC:Eventos para Universidade Federal do Cariri
BEGIN:VTIMEZONE
TZID:"America/Fortaleza"
BEGIN:STANDARD
TZOFFSETFROM:-0300
TZOFFSETTO:-0300
TZNAME:-03
DTSTART:20190101T000000
END:STANDARD
END:VTIMEZONE
BEGIN:VEVENT
DTSTART;VALUE=DATE:20190131
DTEND;VALUE=DATE:20190702
DTSTAMP:20260419T184136
CREATED:20190701T113804Z
LAST-MODIFIED:20190701T113804Z
UID:7824-1548892800-1562025599@www.ufca.edu.br
SUMMARY:Final do período de matrícula institucional 2019.1 para alunos novatos (presencial\, nas Coordenações dos Programas de Pós-graduação stricto sensu) (PG)
DESCRIPTION:
URL:https://www.ufca.edu.br/evento/final-do-periodo-de-matricula-institucional-2019-1-para-alunos-novatos-presencial-nas-coordenacoes-dos-programas-de-pos-graduacao-stricto-sensu-pg/
CATEGORIES:Calendário Universitário
END:VEVENT
BEGIN:VEVENT
DTSTART;VALUE=DATE:20190311
DTEND;VALUE=DATE:20190712
DTSTAMP:20260419T184136
CREATED:20190429T132041Z
LAST-MODIFIED:20190701T115923Z
UID:3073-1552262400-1562889599@www.ufca.edu.br
SUMMARY:Início do período Letivo 2019.1
DESCRIPTION:Início e término do período letivo 2019.1 \n
URL:https://www.ufca.edu.br/evento/periodo-letivo-2019-1/
CATEGORIES:Calendário Universitário
END:VEVENT
BEGIN:VEVENT
DTSTART;VALUE=DATE:20190311
DTEND;VALUE=DATE:20190712
DTSTAMP:20260419T184136
CREATED:20190627T133052Z
LAST-MODIFIED:20190701T120627Z
UID:6829-1552262400-1562889599@www.ufca.edu.br
SUMMARY:Início do período de consolidação de atividades acadêmicas referentes ao período letivo 2019.1
DESCRIPTION:
URL:https://www.ufca.edu.br/evento/periodo-de-consolidacao-de-atividades-academicas-referentes-ao-periodo-letivo-2019-1/
CATEGORIES:Calendário Universitário
END:VEVENT
BEGIN:VEVENT
DTSTART;VALUE=DATE:20190527
DTEND;VALUE=DATE:20190628
DTSTAMP:20260419T184136
CREATED:20190627T133526Z
LAST-MODIFIED:20190627T133526Z
UID:6850-1558915200-1561679999@www.ufca.edu.br
SUMMARY:TÉRMINO do período de demanda de turmas regulares para 2019.2 pelas coordenações de cursos de graduação
DESCRIPTION:
URL:https://www.ufca.edu.br/evento/termino-do-periodo-de-demanda-de-turmas-regulares-para-2019-2-pelas-coordenacoes-de-cursos-de-graduacao/
CATEGORIES:Calendário Universitário
END:VEVENT
BEGIN:VEVENT
DTSTART;VALUE=DATE:20190621
DTEND;VALUE=DATE:20190622
DTSTAMP:20260419T184136
CREATED:20190401T181148Z
LAST-MODIFIED:20190401T181148Z
UID:2884-1561075200-1561161599@www.ufca.edu.br
SUMMARY:Feriado Municipal em Crato – Aniversário do Município
DESCRIPTION:
URL:https://www.ufca.edu.br/evento/feriado-municipal-em-crato-aniversario-do-municipio/
LOCATION:Campus do Crato\, Rua Ícaro de Sousa Moreira\, S/N – Barro Branco\, Crato\, Ceará\, 63.130-025\, Brazil
CATEGORIES:Feriados e recessos
END:VEVENT
BEGIN:VEVENT
DTSTART;VALUE=DATE:20190621
DTEND;VALUE=DATE:20190622
DTSTAMP:20260419T184136
CREATED:20190627T134426Z
LAST-MODIFIED:20190627T134426Z
UID:6888-1561075200-1561161599@www.ufca.edu.br
SUMMARY:Prazo final para encaminhamento de processos (PPCs\, Reformulações de PPCs e aditivos ao PPC) à CEG/PROGRAD para implementações no semestre 2020.1
DESCRIPTION:
URL:https://www.ufca.edu.br/evento/prazo-final-para-encaminhamento-de-processos-ppcs-reformulacoes-de-ppcs-e-aditivos-ao-ppc-a-ceg-prograd-para-implementacoes-no-semestre-2020-1/
CATEGORIES:Calendário Universitário
END:VEVENT
BEGIN:VEVENT
DTSTART;VALUE=DATE:20190621
DTEND;VALUE=DATE:20190622
DTSTAMP:20260419T184136
CREATED:20190701T145147Z
LAST-MODIFIED:20190701T145147Z
UID:8121-1561075200-1561161599@www.ufca.edu.br
SUMMARY:Final do período de demanda de turmas de férias para 2019.3 pelas Coordenações de Curso
DESCRIPTION:
URL:https://www.ufca.edu.br/evento/final-do-periodo-de-demanda-de-turmas-de-ferias-para-2019-3-pelas-coordenacoes-de-curso/
CATEGORIES:Calendário Universitário
END:VEVENT
END:VCALENDAR