BEGIN:VCALENDAR
VERSION:2.0
PRODID:-//Universidade Federal do Cariri - ECPv4.9.5//NONSGML v1.0//EN
CALSCALE:GREGORIAN
METHOD:PUBLISH
X-WR-CALNAME:Universidade Federal do Cariri
X-ORIGINAL-URL:https://www.ufca.edu.br
X-WR-CALDESC:Eventos para Universidade Federal do Cariri
BEGIN:VTIMEZONE
TZID:"America/Fortaleza"
BEGIN:STANDARD
TZOFFSETFROM:-0300
TZOFFSETTO:-0300
TZNAME:-03
DTSTART:20190101T000000
END:STANDARD
END:VTIMEZONE
BEGIN:VEVENT
DTSTART;VALUE=DATE:20190131
DTEND;VALUE=DATE:20190702
DTSTAMP:20260419T202504
CREATED:20190701T113804Z
LAST-MODIFIED:20190701T113804Z
UID:7824-1548892800-1562025599@www.ufca.edu.br
SUMMARY:Final do período de matrícula institucional 2019.1 para alunos novatos (presencial\, nas Coordenações dos Programas de Pós-graduação stricto sensu) (PG)
DESCRIPTION:
URL:https://www.ufca.edu.br/evento/final-do-periodo-de-matricula-institucional-2019-1-para-alunos-novatos-presencial-nas-coordenacoes-dos-programas-de-pos-graduacao-stricto-sensu-pg/
CATEGORIES:Calendário Universitário
END:VEVENT
BEGIN:VEVENT
DTSTART;VALUE=DATE:20190311
DTEND;VALUE=DATE:20190712
DTSTAMP:20260419T202504
CREATED:20190429T132041Z
LAST-MODIFIED:20190701T115923Z
UID:3073-1552262400-1562889599@www.ufca.edu.br
SUMMARY:Início do período Letivo 2019.1
DESCRIPTION:Início e término do período letivo 2019.1 \n
URL:https://www.ufca.edu.br/evento/periodo-letivo-2019-1/
CATEGORIES:Calendário Universitário
END:VEVENT
BEGIN:VEVENT
DTSTART;VALUE=DATE:20190311
DTEND;VALUE=DATE:20190512
DTSTAMP:20260419T202504
CREATED:20190627T133018Z
LAST-MODIFIED:20190701T115714Z
UID:6827-1552262400-1557619199@www.ufca.edu.br
SUMMARY:Início do período de trancamento total de programa referente a 2019.1
DESCRIPTION:
URL:https://www.ufca.edu.br/evento/periodo-de-trancamento-total-de-programa-referente-a-2019-1/
CATEGORIES:Calendário Universitário
END:VEVENT
BEGIN:VEVENT
DTSTART;VALUE=DATE:20190311
DTEND;VALUE=DATE:20190712
DTSTAMP:20260419T202504
CREATED:20190627T133052Z
LAST-MODIFIED:20190701T120627Z
UID:6829-1552262400-1562889599@www.ufca.edu.br
SUMMARY:Início do período de consolidação de atividades acadêmicas referentes ao período letivo 2019.1
DESCRIPTION:
URL:https://www.ufca.edu.br/evento/periodo-de-consolidacao-de-atividades-academicas-referentes-ao-periodo-letivo-2019-1/
CATEGORIES:Calendário Universitário
END:VEVENT
BEGIN:VEVENT
DTSTART;VALUE=DATE:20190503
DTEND;VALUE=DATE:20190504
DTSTAMP:20260419T202504
CREATED:20190627T133326Z
LAST-MODIFIED:20190627T133326Z
UID:6840-1556841600-1556927999@www.ufca.edu.br
SUMMARY:Divulgação do Edital relativo à ocupação de vagas ociosas via processo seletivo para Transferência de outras I.E.S. e Admissão de graduados para 2019.2
DESCRIPTION:
URL:https://www.ufca.edu.br/evento/divulgacao-do-edital-relativo-a-ocupacao-de-vagas-ociosas-via-processo-seletivo-para-transferencia-de-outras-i-e-s-e-admissao-de-graduados-para-2019-2/
CATEGORIES:Calendário Universitário
END:VEVENT
BEGIN:VEVENT
DTSTART;VALUE=DATE:20190503
DTEND;VALUE=DATE:20190504
DTSTAMP:20260419T202504
CREATED:20190627T133348Z
LAST-MODIFIED:20190627T133348Z
UID:6843-1556841600-1556927999@www.ufca.edu.br
SUMMARY:Divulgação do Edital relativo à ocupação de vagas ociosas via processo seletivo de Mudança de Curso para 2019.2
DESCRIPTION:
URL:https://www.ufca.edu.br/evento/divulgacao-do-edital-relativo-a-ocupacao-de-vagas-ociosas-via-processo-seletivo-de-mudanca-de-curso-para-2019-2/
CATEGORIES:Calendário Universitário
END:VEVENT
BEGIN:VEVENT
DTSTART;VALUE=DATE:20190503
DTEND;VALUE=DATE:20190504
DTSTAMP:20260419T202504
CREATED:20190701T115630Z
LAST-MODIFIED:20190701T115630Z
UID:7881-1556841600-1556927999@www.ufca.edu.br
SUMMARY:Final do período de trancamento parcial de matrículas em componentes referentes a 2019.1
DESCRIPTION:
URL:https://www.ufca.edu.br/evento/final-do-periodo-de-trancamento-parcial-de-matriculas-em-componentes-referentes-a-2019-1/
CATEGORIES:Calendário Universitário
END:VEVENT
END:VCALENDAR