BEGIN:VCALENDAR
VERSION:2.0
PRODID:-//Universidade Federal do Cariri - ECPv4.9.5//NONSGML v1.0//EN
CALSCALE:GREGORIAN
METHOD:PUBLISH
X-WR-CALNAME:Universidade Federal do Cariri
X-ORIGINAL-URL:https://www.ufca.edu.br
X-WR-CALDESC:Eventos para Universidade Federal do Cariri
BEGIN:VTIMEZONE
TZID:"America/Fortaleza"
BEGIN:STANDARD
TZOFFSETFROM:-0300
TZOFFSETTO:-0300
TZNAME:-03
DTSTART:20190101T000000
END:STANDARD
END:VTIMEZONE
BEGIN:VEVENT
DTSTART;VALUE=DATE:20190131
DTEND;VALUE=DATE:20190702
DTSTAMP:20260419T235459
CREATED:20190701T113804Z
LAST-MODIFIED:20190701T113804Z
UID:7824-1548892800-1562025599@www.ufca.edu.br
SUMMARY:Final do período de matrícula institucional 2019.1 para alunos novatos (presencial\, nas Coordenações dos Programas de Pós-graduação stricto sensu) (PG)
DESCRIPTION:
URL:https://www.ufca.edu.br/evento/final-do-periodo-de-matricula-institucional-2019-1-para-alunos-novatos-presencial-nas-coordenacoes-dos-programas-de-pos-graduacao-stricto-sensu-pg/
CATEGORIES:Calendário Universitário
END:VEVENT
BEGIN:VEVENT
DTSTART;VALUE=DATE:20190301
DTEND;VALUE=DATE:20190302
DTSTAMP:20260419T235459
CREATED:20190222T124439Z
LAST-MODIFIED:20190222T124439Z
UID:2665-1551398400-1551484799@www.ufca.edu.br
SUMMARY:Término do período de férias de 2018.4
DESCRIPTION:
URL:https://www.ufca.edu.br/evento/termino-do-periodo-de-ferias-de-2018-4/
CATEGORIES:Calendário Universitário
END:VEVENT
BEGIN:VEVENT
DTSTART;VALUE=DATE:20190301
DTEND;VALUE=DATE:20190302
DTSTAMP:20260419T235459
CREATED:20190627T132456Z
LAST-MODIFIED:20190701T115219Z
UID:6800-1551398400-1551484799@www.ufca.edu.br
SUMMARY:Início do período de Matrícula em Tempo Real 2019.1 para alunos veteranos (via Internet)
DESCRIPTION:
URL:https://www.ufca.edu.br/evento/periodo-de-matricula-em-tempo-real-2019-1-para-alunos-veteranos-via-internet/
CATEGORIES:Calendário Universitário
END:VEVENT
BEGIN:VEVENT
DTSTART;VALUE=DATE:20190301
DTEND;VALUE=DATE:20190302
DTSTAMP:20260419T235459
CREATED:20190627T132527Z
LAST-MODIFIED:20190701T115336Z
UID:6802-1551398400-1551484799@www.ufca.edu.br
SUMMARY:Início do período de Matrícula Irrestrita 2019.1 - exclusivo para as Coordenações de Curso
DESCRIPTION:
URL:https://www.ufca.edu.br/evento/periodo-de-matricula-irrestrita-2019-1-exclusivo-para-as-coordenacoes-de-curso/
CATEGORIES:Calendário Universitário
END:VEVENT
BEGIN:VEVENT
DTSTART;VALUE=DATE:20190301
DTEND;VALUE=DATE:20190302
DTSTAMP:20260419T235459
CREATED:20190627T132610Z
LAST-MODIFIED:20190627T132610Z
UID:6804-1551398400-1551484799@www.ufca.edu.br
SUMMARY:Envio de advertência sobre risco de bloqueio para estudantes sem matrícula em componentes curriculares em 2019.1
DESCRIPTION:
URL:https://www.ufca.edu.br/evento/envio-de-advertencia-sobre-risco-de-bloqueio-para-estudantes-sem-matricula-em-componentes-curriculares-em-2019-1/
CATEGORIES:Calendário Universitário
END:VEVENT
END:VCALENDAR