BEGIN:VCALENDAR
VERSION:2.0
PRODID:-//Universidade Federal do Cariri - ECPv4.9.5//NONSGML v1.0//EN
CALSCALE:GREGORIAN
METHOD:PUBLISH
X-WR-CALNAME:Universidade Federal do Cariri
X-ORIGINAL-URL:https://www.ufca.edu.br
X-WR-CALDESC:Eventos para Universidade Federal do Cariri
BEGIN:VTIMEZONE
TZID:"America/Fortaleza"
BEGIN:STANDARD
TZOFFSETFROM:-0300
TZOFFSETTO:-0300
TZNAME:-03
DTSTART:20190101T000000
END:STANDARD
END:VTIMEZONE
BEGIN:VEVENT
DTSTART;VALUE=DATE:20190129
DTEND;VALUE=DATE:20190131
DTSTAMP:20260420T013619
CREATED:20190627T131147Z
LAST-MODIFIED:20190627T131147Z
UID:6767-1548720000-1548892799@www.ufca.edu.br
SUMMARY:Mudança do status para “Ativo” de estudantes em mobilidade\, suspensos por trancamento total e suspenso aguardando retorno
DESCRIPTION:
URL:https://www.ufca.edu.br/evento/mudanca-do-status-para-ativo-de-estudantes-em-mobilidade-suspensos-por-trancamento-total-e-suspenso-aguardando-retorno/
CATEGORIES:Calendário Universitário
END:VEVENT
END:VCALENDAR