BEGIN:VCALENDAR
VERSION:2.0
PRODID:-//Universidade Federal do Cariri - ECPv4.9.5//NONSGML v1.0//EN
CALSCALE:GREGORIAN
METHOD:PUBLISH
X-WR-CALNAME:Universidade Federal do Cariri
X-ORIGINAL-URL:https://www.ufca.edu.br
X-WR-CALDESC:Eventos para Universidade Federal do Cariri
BEGIN:VTIMEZONE
TZID:"America/Fortaleza"
BEGIN:STANDARD
TZOFFSETFROM:-0300
TZOFFSETTO:-0300
TZNAME:-03
DTSTART:20190101T000000
END:STANDARD
END:VTIMEZONE
BEGIN:VEVENT
DTSTART;VALUE=DATE:20190128
DTEND;VALUE=DATE:20190129
DTSTAMP:20260420T012624
CREATED:20190318T183458Z
LAST-MODIFIED:20190318T183511Z
UID:2806-1548633600-1548719999@www.ufca.edu.br
SUMMARY:Início do Semestre 2019.1
DESCRIPTION:
URL:https://www.ufca.edu.br/evento/inicio-do-semestre-2019-1/
CATEGORIES:Calendário Universitário
END:VEVENT
BEGIN:VEVENT
DTSTART;VALUE=DATE:20190128
DTEND;VALUE=DATE:20190129
DTSTAMP:20260420T012624
CREATED:20190627T130503Z
LAST-MODIFIED:20190627T131023Z
UID:6758-1548633600-1548719999@www.ufca.edu.br
SUMMARY:INÍCIO da vigência do semestre 2019.1 no SIGAA
DESCRIPTION:
URL:https://www.ufca.edu.br/evento/inicio-da-vigencia-do-semestre-2019-1-no-sigaa/
CATEGORIES:Calendário Universitário
END:VEVENT
BEGIN:VEVENT
DTSTART;VALUE=DATE:20190128
DTEND;VALUE=DATE:20190129
DTSTAMP:20260420T012624
CREATED:20190627T130609Z
LAST-MODIFIED:20190627T131012Z
UID:6761-1548633600-1548719999@www.ufca.edu.br
SUMMARY:INÍCIO do período de matrícula em atividades acadêmicas pelas Coordenações de curso\, para o período letivo 2019.1
DESCRIPTION:
URL:https://www.ufca.edu.br/evento/inicio-do-periodo-de-matricula-em-atividades-academicas-pelas-coordenacoes-de-curso-para-o-periodo-letivo-2019-1/
CATEGORIES:Calendário Universitário
END:VEVENT
BEGIN:VEVENT
DTSTART;VALUE=DATE:20190128
DTEND;VALUE=DATE:20190129
DTSTAMP:20260420T012624
CREATED:20190627T130824Z
LAST-MODIFIED:20190701T113734Z
UID:6763-1548633600-1548719999@www.ufca.edu.br
SUMMARY:Início período de matrícula institucional 2019.1 para alunos novatos (presencial\, nas Coordenações dos Programas de Pós-graduação stricto sensu) (PG)
DESCRIPTION:
URL:https://www.ufca.edu.br/evento/periodo-de-matricula-institucional-2019-1-para-alunos-novatos-presencial-nas-coordenacoes-dos-programas-de-pos-graduacao-stricto-sensu-pg/
CATEGORIES:Calendário Universitário
END:VEVENT
END:VCALENDAR